BEGIN:VCALENDAR
VERSION:2.0
PRODID:-//Gratis-in-Berlin//NONSGML kigkonsult.se iCalcreator 2.14//
METHOD:PUBLISH
X-WR-CALNAME:Gratis-in-Berlin Tip Kalender
X-WR-CALDESC:Erhalte Gratis-in-Berlin Tips in deinem Kalender
BEGIN:VEVENT
UID:20260420T151013UTC-4501avGUlm@Gratis-in-Berlin
DTSTAMP:20260420T151013Z
DESCRIPTION:Die Segenskirche wurde 1905?1908 von August Dinklage\, Olaf Lil
 loe und Ernst Paulus für die Tochtergemeinde der Zionskirche erbaut. Die Segens
 kirche besticht durch ihre eindrucksvolle geschlossene Architektur\, welch
 e die Kirche mit dem Gemeindehaus verbindet und mehrere Wohnungen einbezie
 ht.  Seit August 2007 gibt es hier das Stadtkloster Segen. Dieses Projekt 
 wird von der Kirchengemeinde Prenzlauer Berg Nord und der Kommunität Don Cam
 illo verwirklicht. Die Stadtklostergemeinschaft lädt um 12 Uhr zum liturgisc
 hen Mittagsgebet ein.  Ab 13 bis 16 Uhr gibt es\, jeweils zur vollen Stund
 e Führungen zum Projekt Stadtkloster. Für Fragen und Gespräche stehen Mitglieder der S
 tadtklostergemeinschaft an einem Infostand zur Verfügung.  Für schwindelfreie gibt e
 s zudem die Möglichkeit zur Turmbesteigung bis zu den Kirchenglocken. Diese w
 ird mit einer tollen Aussicht über Berlin belohnt!\n\nViel Spass wünscht Gratis-in-B
 erlin\n\nLink zum Tip: \nZu den Gratis-in-Berlin Angeboten: http://www.gra
 tis-in-berlin.de\n
DTSTART;VALUE=DATE:20130907
DTEND;VALUE=DATE:20130908
SUMMARY:Tag der offenen Tür im Stadtkloster Segen
END:VEVENT
END:VCALENDAR
