BEGIN:VCALENDAR
VERSION:2.0
PRODID:-//Gratis-in-Berlin//NONSGML kigkonsult.se iCalcreator 2.14//
METHOD:PUBLISH
X-WR-CALNAME:Gratis-in-Berlin Tip Kalender
X-WR-CALDESC:Erhalte Gratis-in-Berlin Tips in deinem Kalender
BEGIN:VEVENT
UID:20260421T101344UTC-4882JG1SIN@Gratis-in-Berlin
DTSTAMP:20260421T101344Z
DESCRIPTION:Es geht ab Storkower / Greifswalder Str. - es gibt eine kleine 
 Runde zum Ausgangspunkt zurückMindestteilnehmerzahl für die Tour: zwei Personen\n\nV
 iel Spass wünscht Gratis-in-Berlin\n\nLink zum Tip: https://www.gratis-in-berli
 n.de/dauerbrenner/10-special-sightseeing/2052255-der-muehlenkiez\nZu den G
 ratis-in-Berlin Angeboten: http://www.gratis-in-berlin.de\n
DTSTART;VALUE=DATE:20260426
DTEND;VALUE=DATE:20260427
SUMMARY:Der Mühlenkiez
END:VEVENT
END:VCALENDAR
