BEGIN:VCALENDAR
VERSION:2.0
PRODID:-//Gratis-in-Berlin//NONSGML kigkonsult.se iCalcreator 2.14//
METHOD:PUBLISH
X-WR-CALNAME:Gratis-in-Berlin Tip Kalender
X-WR-CALDESC:Erhalte Gratis-in-Berlin Tips in deinem Kalender
BEGIN:VEVENT
UID:20260422T083601UTC-032520gTKv@Gratis-in-Berlin
DTSTAMP:20260422T083601Z
DESCRIPTION:Ein Kirchraum ist vieles. Eines ist er ganz sicher auch: ein mi
 t Atmosphären und Gefühlen aufgeladener Raum. Es gibt darin Stellen\, die einen e
 rgreifen\, an denen man versinken kann\, die einen aufrichten oder schwebe
 n lassen. Er lädt zum andächtigen Staunen ein. Staunen über diesen heiligen Raum\, 
 wie er baulich\, künstlerisch\, klanglich und liturgisch immer wieder neu das L
 ob auf Gott inszeniert. Auf einen Gott\, der dem\, was nicht Raum hat in u
 nserer Welt\, Lebensraum gewährt und schafft. Einige ausgesuchte Stellen im 
 Raum der St.??Marien&shy\;kirche werden wir aufsuchen und dort inne&shy\;h
 alten. Sie bekommen etwas zu hören\, über den Totentanz\, ein Kunstwerk\, die Kanz
 el\, den Taufstein oder den Altar\, aber womöglich machen Sie auch eine Erfah
 rung. Wie dieser Raum nach Ihnen greift. Der Raum der St.??Marien&shy\;kir
 che\, vielleicht ein Ort für neue Lebensaufbrüche. Im Anschluss findet in der Marien
 kapelle ein kleiner Umtrunk statt.\n\nViel Spass wünscht Gratis-in-Berlin\n\nLi
 nk zum Tip: \nZu den Gratis-in-Berlin Angeboten: http://www.gratis-in-berl
 in.de\n
DTSTART;VALUE=DATE:20231128
DTEND;VALUE=DATE:20231129
SUMMARY:Andächtiges Staunen ? eine geistliche Raumbegehung durch St. Marien
END:VEVENT
END:VCALENDAR
