BEGIN:VCALENDAR
VERSION:2.0
PRODID:-//Gratis-in-Berlin//NONSGML kigkonsult.se iCalcreator 2.14//
METHOD:PUBLISH
X-WR-CALNAME:Gratis-in-Berlin Tip Kalender
X-WR-CALDESC:Erhalte Gratis-in-Berlin Tips in deinem Kalender
BEGIN:VEVENT
UID:20260419T124128UTC-7209NTm0mH@Gratis-in-Berlin
DTSTAMP:20260419T124128Z
DESCRIPTION:In etwa 70 Minuten werden Sie von Olaf Abrecht mit den wichtigs
 ten Etappen der Baugeschichte\, ab Ende des 13. Jahrhunderts bis zur sakra
 len Ausgestaltung dieserältesten aktiven Kirche Berlins\, vertraut gemacht. 
 Sie lernen den Berliner Totentanz und eine kleine Auswahl der Kunstsammlun
 g der St. Marienkirche kennen.Info/Anmeldung: olaf.albrecht@gmx.comjeweils
  um 18 Uhr nach der BesuchszeitTREFFPUNKT:Büchertisch am HaupteingangSpenden wi
 llkommen\n\nViel Spass wünscht Gratis-in-Berlin\n\nLink zum Tip: \nZu den Grati
 s-in-Berlin Angeboten: http://www.gratis-in-berlin.de\n
DTSTART;VALUE=DATE:20260224
DTEND;VALUE=DATE:20260225
SUMMARY:Führungen in St. Marien ? Kirchenführung zu Kunst- und Baugeschichte
END:VEVENT
END:VCALENDAR
