BEGIN:VCALENDAR
VERSION:2.0
PRODID:-//Gratis-in-Berlin//NONSGML kigkonsult.se iCalcreator 2.14//
METHOD:PUBLISH
X-WR-CALNAME:Gratis-in-Berlin Tip Kalender
X-WR-CALDESC:Erhalte Gratis-in-Berlin Tips in deinem Kalender
BEGIN:VEVENT
UID:20260423T113502UTC-2197GTO3VI@Gratis-in-Berlin
DTSTAMP:20260423T113502Z
DESCRIPTION:In ca. 70-90 Minuten werden Sie mit den wichtigsten Etappen der
  Baugeschichte\, die schon Ende des 13.??Jahr&shy\;hunderts beginnt\, sowi
 e der unter anderem von den herausragenden Künstlern Andreas Schlüter und Christian 
 Bernhard Rode geschaffenen sakralen Aus&shy\;gestaltung dieser ältesten akti
 ven Kirche Berlins vertraut gemacht. Sie lernen den Berliner Toten&shy\;ta
 nz und eine kleine Auswahl ikono&shy\;gra&shy\;fisch bedeutsamer Werke der
  Kunstsammlung der St.??Marien&shy\;kirche kennen\, die ein eindrückliches Zeug
 nis von der Entwicklung des sakralen Berliner Kunstschaffens vom 15. bis z
 um 18. Jahr&shy\;hundert ablegen.Treffpunkt am Büchertisch in der MarienkircheS
 t. Marienkirche MitteKarl-Liebknecht-Str. 810178 Berlin\n\nViel Spass wünscht G
 ratis-in-Berlin\n\nLink zum Tip: https://www.gratis-in-berlin.de/naechste-
 monat/item/2077184-kirchenfuehrung-mit-olaf-albrecht\nZu den Gratis-in-Ber
 lin Angeboten: http://www.gratis-in-berlin.de\n
DTSTART;VALUE=DATE:20260512
DTEND;VALUE=DATE:20260513
SUMMARY:Kirchenführung mit Olaf Albrecht
END:VEVENT
END:VCALENDAR
