BEGIN:VCALENDAR
VERSION:2.0
PRODID:-//Gratis-in-Berlin//NONSGML kigkonsult.se iCalcreator 2.14//
METHOD:PUBLISH
X-WR-CALNAME:Gratis-in-Berlin Tip Kalender
X-WR-CALDESC:Erhalte Gratis-in-Berlin Tips in deinem Kalender
BEGIN:VEVENT
UID:20260419T215838UTC-0574XJ7jpZ@Gratis-in-Berlin
DTSTAMP:20260419T215838Z
DESCRIPTION:Die vogelkundliche Führung richtet sich an ornithologische Einsteige
 r und naturbegeisterte Erwachsene und Kinder ab zwölf Jahren. Nahezu alle Zug
 vögel sind wieder da und das Brutgeschehen ist in vollem Gang. Gerne könnt Ihr E
 uer eigenes Fernglas mitbringen\, Leihferngläser sind in begrenzter Zahl vor
 handen. Um die Vögel möglichst wenig zu stören und gut beobachten zu können\, bitten w
 ir Euch\, ohne Hunde zu erscheinen. Kinder ab 10 Jahren sind herzlich will
 kommen!Leitung: Ornithologe André EdenDie Teilnehmerzahl ist begrenzt und wi
 r bitten um eine Anmeldung über mail@naturschutzstation-hahneberg.de oder unter
  030/263 007 87.Die Führung ist kostenfrei\, über eine Spende freuen wir uns aber se
 hr.Treffpunkt: Naturschutzstation Hahneberg\, Heerstr. 549\, 13593 Berlin\
 , erreichbar mit öffentlichen Verkehrsmitteln (Bus M37\, X49\, M49\; Halteste
 lle Hahneberg)\n\nViel Spass wünscht Gratis-in-Berlin\n\nLink zum Tip: https://
 www.gratis-in-berlin.de/kalender/item/2078128-vogelfuehrung-am-hahneberg\n
 Zu den Gratis-in-Berlin Angeboten: http://www.gratis-in-berlin.de\n
DTSTART;VALUE=DATE:20260419
DTEND;VALUE=DATE:20260420
SUMMARY:Vogelführung am Hahneberg
END:VEVENT
END:VCALENDAR
