BEGIN:VCALENDAR
VERSION:2.0
PRODID:-//Gratis-in-Berlin//NONSGML kigkonsult.se iCalcreator 2.14//
METHOD:PUBLISH
X-WR-CALNAME:Gratis-in-Berlin Tip Kalender
X-WR-CALDESC:Erhalte Gratis-in-Berlin Tips in deinem Kalender
BEGIN:VEVENT
UID:20260424T124625UTC-0978hWeJVm@Gratis-in-Berlin
DTSTAMP:20260424T124625Z
DESCRIPTION:Zeichen und Spuren\, Menschen und deren Schicksale zeugen auf d
 em Dorotheenstädtischen Friedhof vom II. Weltkrieg und dem nationalsozialist
 ischen Unrechtsregime.Bekannte und unbekannte Namen begegnen uns auf dem S
 paziergang über den Friedhof - Zeuginnen und Zeugen des Kampfes gegen ein Unrec
 htsregime\, aber auch gegen eine Geisteshaltung\, der wir auch in der Gege
 nwart (wieder) begegnen.Daher lade ich Sie zu einer nicht immer bequemen\,
  aber hoffentlich nachdenklich machenden Friedhofsführung an einem historischen
  Datum ein.Dr. Joachim Schmidt im Auftrag des evangelischen Friedhofsverba
 ndes\n\nViel Spass wünscht Gratis-in-Berlin\n\nLink zum Tip: \nZu den Gratis-in
 -Berlin Angeboten: http://www.gratis-in-berlin.de\n
DTSTART;VALUE=DATE:20260508
DTEND;VALUE=DATE:20260509
SUMMARY:Weltkriegsende - Führung auf dem Dorotheenstädtischen Friedhof
END:VEVENT
END:VCALENDAR
