BEGIN:VCALENDAR
VERSION:2.0
PRODID:-//Gratis-in-Berlin//NONSGML kigkonsult.se iCalcreator 2.14//
METHOD:PUBLISH
X-WR-CALNAME:Gratis-in-Berlin Tip Kalender
X-WR-CALDESC:Erhalte Gratis-in-Berlin Tips in deinem Kalender
BEGIN:VEVENT
UID:20260424T124645UTC-0397UGatKV@Gratis-in-Berlin
DTSTAMP:20260424T124645Z
DESCRIPTION:Warum steht ein Apfelbäumchen auf einem Friedhof?Was Fichte\, Heg
 el\, Marcuse und Brecht wohl so eint und trennt...?Wie wurde aus dem Arme-
 Leute-Friedhof der ?Père-Lachaise Berlins??Und warum brauchen wir diesen Eri
 nnerungsort heute mehr denn je...? Gerne nehme ich Sie mit auf einen geführten 
 Rundgang durch den Dorotheenstädtischen Friedhof\, auf dem wir mit Ihnen die
 se Rätsel lösen. Gleichzeitig gehen wir auch den großen und kleinen Fragen nach\
 , die uns das Leben und Wirken der Menschen stellen\, die hier begraben si
 nd... Dr. Joachim Schmidt im Auftrag des evangelischen Friedhofsverbands S
 tadtmitte\n\nViel Spass wünscht Gratis-in-Berlin\n\nLink zum Tip: \nZu den Grat
 is-in-Berlin Angeboten: http://www.gratis-in-berlin.de\n
DTSTART;VALUE=DATE:20260524
DTEND;VALUE=DATE:20260525
SUMMARY:Führung Dorotheenstädtischer Friedhof
END:VEVENT
END:VCALENDAR
