BEGIN:VCALENDAR
VERSION:2.0
PRODID:-//Gratis-in-Berlin//NONSGML kigkonsult.se iCalcreator 2.14//
METHOD:PUBLISH
X-WR-CALNAME:Gratis-in-Berlin Tip Kalender
X-WR-CALDESC:Erhalte Gratis-in-Berlin Tips in deinem Kalender
BEGIN:VEVENT
UID:20260422T152548UTC-8298sSjfWU@Gratis-in-Berlin
DTSTAMP:20260422T152548Z
DESCRIPTION:Berlin-Adlershof ist die Stadt der Wissenschaft\, in der täglich 
 neu Geschichte und Innovationen gemacht werden. Vom S-Bahnhof Adlershof könne
 n Besucher praktisch rund um die Uhr den ca. 1\,5 stündigen Entdecker-Parcours 
 'Gedankengang' selber ablaufen. So erfährt man anschaulich direkt vor Ort\, 
 was in Deutschlands größtem Wissenschafts- und Technologiepark alles&nbsp\; g
 eforscht\, gelehrt\, entwickelt und produziert wird. Die einzelnen Station
 en gibt es auf der verlinkten Seite auch als mp3-AUDIO Podcast.www.adlersh
 of.de/kiez/lehrpfad-gedankengang\n\nViel Spass wünscht Gratis-in-Berlin\n\nLink
  zum Tip: \nZu den Gratis-in-Berlin Angeboten: http://www.gratis-in-berlin
 .de\n
DTSTART;VALUE=DATE:20120311
DTEND;VALUE=DATE:20230312
SUMMARY:Stadt der Wissenschaft mit Gedankengang-Parcours 
END:VEVENT
END:VCALENDAR
