BEGIN:VCALENDAR
VERSION:2.0
PRODID:-//Gratis-in-Berlin//NONSGML kigkonsult.se iCalcreator 2.14//
METHOD:PUBLISH
X-WR-CALNAME:Gratis-in-Berlin Tip Kalender
X-WR-CALDESC:Erhalte Gratis-in-Berlin Tips in deinem Kalender
BEGIN:VEVENT
UID:20260425T155830UTC-9316jVA397@Gratis-in-Berlin
DTSTAMP:20260425T155830Z
DESCRIPTION:Art Grain ? Ein Kunstgang durch den Körnerkiez  Ateliers und Galer
 ien öffnen am 11. Oktober 2013 von 18:00 bis 22:00 ihre Türen  Der kuratierte Kuns
 trundgang Art Grain wurde 2010 ins Leben gerufen und führt einmal im Jahr zu sp
 annenden Künstlern\, Ateliers und Galerien im Neuköllner Körnerkiez. Dazu gehören etabli
 erte\, staatliche Galerien wie die Galerie im Körnerkiez\, aber auch junge un
 d freie Projekträume und Ateliers wie das e116 oder das le quartier. In dies
 em Jahr zeigt Art Grain eine Auswahl von sieben sehr unterschiedlichen Kun
 storten zwischen Ausstellungsraum und Kunstproduktionsstätte. Dabei geben di
 e Führungen dem kunstinteressierten Publikum nicht nur die Gelegenheit\, sich m
 it aktuellen Kunstwerken auseinanderzusetzen\, sondern auch mit den Künstlern\,
  wie auch Kuratoren und Galeristen ins Gespräch zu kommen. Im kleinen und ru
 higen Körnerkiez existiert seit Jahren ein zunehmend reges und dynamisches Ku
 nstleben. Es entstehen immer neue Ateliers und Galerien\, Kreative aus all
 er Welt gehen hier ihrer Arbeit nach. Kuratoren\, Sammler\, Interessierte 
 wie auch Nachbarn sind herzlich eingeladen bei einer der kostenlosen Führungen 
 die Kunstwelt des Körnerkiezes zu entdecken oder auf eigene Faust durch die l
 okale Kunstszene zu flanieren.  Die Führungen finden jeweils 18:00\, 19:00 und 
 20:00 und 20:15 Uhr auf deutsch und 19:30 Uhr auf englisch statt.  Treffpu
 nkt und Start ist im kunstraum t27 in der Thomasstraße 27.  Ab 22 Uhr begin
 nt die After-Walk-Party in der WerkStadt\, Emser Str. 124  Die Kunstfilial
 e Körnerkiez wird gefördert durch die Europäische Union und das Land Berlin im Rah
 men des Programms 'Zukunftsinitiative Stadtteil' Teilprogramm 'Soziale Sta
 dt - Investition in Ihre Zukunft'.\n\nViel Spass wünscht Gratis-in-Berlin\n\nLi
 nk zum Tip: \nZu den Gratis-in-Berlin Angeboten: http://www.gratis-in-berl
 in.de\n
DTSTART;VALUE=DATE:20131011
DTEND;VALUE=DATE:20131012
SUMMARY:Art Grain - ein Kunstgang durch den Körnerkiez
END:VEVENT
END:VCALENDAR
