BEGIN:VCALENDAR
VERSION:2.0
PRODID:-//Gratis-in-Berlin//NONSGML kigkonsult.se iCalcreator 2.14//
METHOD:PUBLISH
X-WR-CALNAME:Gratis-in-Berlin Tip Kalender
X-WR-CALDESC:Erhalte Gratis-in-Berlin Tips in deinem Kalender
BEGIN:VEVENT
UID:20260423T114911UTC-3685Uu8N0H@Gratis-in-Berlin
DTSTAMP:20260423T114911Z
DESCRIPTION:An jedem letzten Freitag im Monat um 20 Uhr (auch an Weihnachte
 n und bei jedem Wetter) findet die Critical Mass Berlin statt (Dauer ca. 2
  Std.). Treffpunkt normalerweise Mariannenplatz. Die Critical Mass ist ein
 e weltweite Bewegung\, bei der sich Fahrradfahrer treffen und durch die St
 adt fahren. Man kann es persönlich als Fahrradtour\, Protestform\, Spaßveranst
 altung\, Flashmob oder was auch immer betrachten. Mittlerweile sind mehrer
 e hundert Teilnehmer dabei. Gefahren wird wohl auch bei kühlem Wetter. Verhalte
 nsregeln bei der Critical Mass:\n Die Gruppe fährt auf der Fahrbahn auf eine
 r Spur und hält sich an die Verkehrsregeln. Die Gruppe bleibt kompakt und be
 isammen um durch den motorisierten Verkehr nicht zerrissen zu werden. Alle
 s bleibt friedlich und lässt sich durch aggressive Autofahrer nicht provozie
 ren. Der Verkehr wird nicht absichtlich gestört\, es geht nicht um Verkehrsbe
 hinderung anderer\, sondern darum\, sich als unmotorisierter Verkehrsteiln
 ehmer ein Stück öffentlichen Lebensraumes\, die Straße\, zumindest zeitweilig zu
 rückzuerobern.\nUnd per Klick auf folgenden Link in Fettschrift finden sich wei
 tere spannende Berlin Tips für heute&nbsp\;bzw. per Klick hierauf besondere Ber
 lin Events morgen\n\nViel Spass wünscht Gratis-in-Berlin\n\nLink zum Tip: https
 ://www.gratis-in-berlin.de/dauerbrenner/11-tolle-touren/2012139-critical-m
 ass-fahrradtour\nZu den Gratis-in-Berlin Angeboten: http://www.gratis-in-b
 erlin.de\n
DTSTART;VALUE=DATE:20260424
DTEND;VALUE=DATE:20260425
SUMMARY:Critical Mass Fahrradtour 
END:VEVENT
END:VCALENDAR
