BEGIN:VCALENDAR
VERSION:2.0
PRODID:-//Gratis-in-Berlin//NONSGML kigkonsult.se iCalcreator 2.14//
METHOD:PUBLISH
X-WR-CALNAME:Gratis-in-Berlin Tip Kalender
X-WR-CALDESC:Erhalte Gratis-in-Berlin Tips in deinem Kalender
BEGIN:VEVENT
UID:20260421T124531UTC-4831PWRUIm@Gratis-in-Berlin
DTSTAMP:20260421T124531Z
DESCRIPTION:Die Tour führt über die Kastanienallee\, die Oderberger Straße\, vorb
 ei am Mauerpark und von dort auf und abseits der Bernauer Straße und der Ma
 uergedenkstätte entlang bis zum Nordbahnhof.Mindestteilnehmerzahl: zwei Pers
 onenBei Glatteiswarnung durch den DWD fällt die Tour aus.\n\nViel Spass wünscht G
 ratis-in-Berlin\n\nLink zum Tip: https://www.gratis-in-berlin.de/tolle-tou
 ren/item/2018334-die-mauerspechte\nZu den Gratis-in-Berlin Angeboten: http
 ://www.gratis-in-berlin.de\n
DTSTART;VALUE=DATE:20260425
DTEND;VALUE=DATE:20260426
SUMMARY:Die Mauerspechte
END:VEVENT
END:VCALENDAR
