BEGIN:VCALENDAR
VERSION:2.0
PRODID:-//Gratis-in-Berlin//NONSGML kigkonsult.se iCalcreator 2.14//
METHOD:PUBLISH
X-WR-CALNAME:Gratis-in-Berlin Tip Kalender
X-WR-CALDESC:Erhalte Gratis-in-Berlin Tips in deinem Kalender
BEGIN:VEVENT
UID:20260422T161418UTC-8491LDmj01@Gratis-in-Berlin
DTSTAMP:20260422T161418Z
DESCRIPTION:Die Tour führt über die Kastanienallee\, die Oderberger Straße\, vorb
 ei am Mauerpark und von dort auf und abseits der Bernauer Straße und der Ma
 uergedenkstätte entlang bis zum Nordbahnhof.\n\nViel Spass wünscht Gratis-in-Berl
 in\n\nLink zum Tip: https://www.gratis-in-berlin.de/tolle-touren/item/2018
 357-die-mauerspechte\nZu den Gratis-in-Berlin Angeboten: http://www.gratis
 -in-berlin.de\n
DTSTART;VALUE=DATE:20170525
DTEND;VALUE=DATE:20170526
SUMMARY:Die Mauerspechte
END:VEVENT
END:VCALENDAR
