BEGIN:VCALENDAR
VERSION:2.0
PRODID:-//Gratis-in-Berlin//NONSGML kigkonsult.se iCalcreator 2.14//
METHOD:PUBLISH
X-WR-CALNAME:Gratis-in-Berlin Tip Kalender
X-WR-CALDESC:Erhalte Gratis-in-Berlin Tips in deinem Kalender
BEGIN:VEVENT
UID:20260422T133620UTC-70465UHADN@Gratis-in-Berlin
DTSTAMP:20260422T133620Z
DESCRIPTION:Am 25. Mai findet die 6. Lange Nacht der Religionen statt\, an 
 dem auch wieder der buddhistische Tempel der Fo-Guang-Shan Gemeinschaft te
 ilnimmt.Als Besucher erhaltet ihr einen Einblick in den größten buddhistische
 n Tempel Europas\, könnt euren Namen in Kalligraphie schreiben lassen und an 
 einer Führung\, sowie einer Teezeremonie teilnehmen. Es gibt einige Kleine Köstlic
 hkeiten\, sowie Getränke. Den Abschluss bildet eine Lichterzeremonie\, an de
 r alle Besucher teilnehmen können.\n\nViel Spass wünscht Gratis-in-Berlin\n\nLink 
 zum Tip: \nZu den Gratis-in-Berlin Angeboten: http://www.gratis-in-berlin.
 de\n
DTSTART;VALUE=DATE:20170525
DTEND;VALUE=DATE:20170526
SUMMARY:Lange Nacht der Religionen - Fo-Guang-Shan Tempel Berlin
END:VEVENT
END:VCALENDAR
