BEGIN:VCALENDAR
VERSION:2.0
PRODID:-//Gratis-in-Berlin//NONSGML kigkonsult.se iCalcreator 2.14//
METHOD:PUBLISH
X-WR-CALNAME:Gratis-in-Berlin Tip Kalender
X-WR-CALDESC:Erhalte Gratis-in-Berlin Tips in deinem Kalender
BEGIN:VEVENT
UID:20260423T115636UTC-20996u27Gn@Gratis-in-Berlin
DTSTAMP:20260423T115636Z
DESCRIPTION:Kostenlose Bezirkstouren\, geleitet von den ADFC-Stadtteilgrupp
 en. Die familienfreundlichen Touren beginnen meistens um 14:00 Uhr\, oft a
 n den Rathäuser teilnehmender Bezirke. Auf der verlinkten Seite stehen die D
 etials.DiesmalStadtteilgruppe Lichtenberg - Kieztour in den Lichtenberger 
 NordenStadtteilgruppe City-West - Kieztour CW - Architektur und Stadtraum 
 erFahrenStadtteilgruppe Pankow - Kieztour Weißensee - vom Ortskern an den S
 tadtrandStadtteilgruppe Wuhletal - Landpartie zum Sattelfest StrausbergSta
 dtteilgruppe Steglitz-Zehlendorf - Kieztour Steglitz-ZehlendorfOder bei al
 len Radtouren-Angeboten mit auch kostenpflichtigen Touren finden sich mit 
 'Kieztour' in der Überschrift erkennbar auch die Kieztouren am Sonntag.\n\n
 Viel Spass wünscht Gratis-in-Berlin\n\nLink zum Tip: \nZu den Gratis-in-Berlin 
 Angeboten: http://www.gratis-in-berlin.de\n
DTSTART;VALUE=DATE:20260426
DTEND;VALUE=DATE:20260427
SUMMARY:ADFC Kieztouren für Neuberliner und andere
END:VEVENT
END:VCALENDAR
