BEGIN:VCALENDAR
VERSION:2.0
PRODID:-//Gratis-in-Berlin//NONSGML kigkonsult.se iCalcreator 2.14//
METHOD:PUBLISH
X-WR-CALNAME:Gratis-in-Berlin Tip Kalender
X-WR-CALDESC:Erhalte Gratis-in-Berlin Tips in deinem Kalender
BEGIN:VEVENT
UID:20260422T130442UTC-9601on4DE5@Gratis-in-Berlin
DTSTAMP:20260422T130442Z
DESCRIPTION:Silent.move_concerts steht für Konzerte an ungewöhnlichen Orten.Diesmal
 : Artists-on-Wheels.Mit Lastenfahrrad und Fahrrad-Anhänger die Tegeler Heide
  abfahren (inkl. Landbahn der Flughafen Tegels).Unsere Musiker*innen sitze
 n dabei gitarrespielend und singend auf einem Fahrradanhänger.Wer zuhören möchte\,
  braucht nur ein Fahrrad\, Rollerskates oder Ähnliches.Wir verteilen Kopfhörer
  um es besser bei etwas Abstand zu hören (Funktechnik).Treffpunkt: 19:30 Flug
 hafen Tegel / genaueres nach Buchung.Hinweis: dies ist eine Bezahltour. Da
  die Konzertreihe aber ein Pilotprojekt ist und wir noch Kapazitäten haben\,
  geben wir ein kleines Kontigent frei für Gratis-in-Berlin.Spenden für die Musiker*i
 nnen nehmen wir natürlich\, allerdings steht ein tolles Konzert für uns im Vordergru
 nd.Wir bitte um ausschließlich ernstgemeinte Buchung. Und nochmal\, weil es
  immer wieder vorkommt: Bitte nur buchen\, wenn du dich vorher informiert 
 hast und wirklich kommen magst. Du brauchst ein Fahrrad.Heute:&nbsp\;Ab 19
 :45 geht die Fahrt los.Check-in ab 19:15 UhrDauer: ca: 75minPause in der M
 itteKopfhörer reservieren: https://www.silentmove.berlin/aowtxlTicketCode: GT
 SBLN(gilt nur für heute)Sonnencreme nicht vergessen&nbsp\;Live Musik von:Josh S
 avageSinger- Songwriting trifft auf Indie Pop______'Ich habe einen Gutsche
 in-Code. Wie kann ich den anwenden?':Gehe in unseren Ticketshop und gebe d
 en Code in das Feld:- Wähle die Tour aus\, für die du dich interessierst.- Wähle de
 in bevorzugtes Datum.- Füge 'Regular' Tickets hinzu- Klick auf 'Bestellung aufg
 eben'- Gib deine E-Mail ein und erstelle entweder ein Konto oder nicht- un
 ter 'Summe' kannst du einen Promo-Code eingeben- Den Code musst du für jedes Ti
 cket eingeben - d.h. wenn du ein Gutschein für 2 Tickets hast\, musst du den Co
 de 2 mal eingeben?Es kann nur 2 Codes pro Buchung eingelöst werden.Probleme b
 eim einlösen:Whatsapp:&nbsp\;+49(0) 177 168 49 41\n\nViel Spass wünscht Gratis-in-
 Berlin\n\nLink zum Tip: https://www.gratis-in-berlin.de/kalender/item/2050
 210-rollendes-fahrradkonzert-auf-tempelhofer-feld\nZu den Gratis-in-Berlin
  Angeboten: http://www.gratis-in-berlin.de\n
DTSTART;VALUE=DATE:20250622
DTEND;VALUE=DATE:20250623
SUMMARY:Rollendes Fahrradkonzert Flughafen Tegel / auf mehreren mobilen Bühn
 en
END:VEVENT
END:VCALENDAR
