BEGIN:VCALENDAR
VERSION:2.0
PRODID:-//Gratis-in-Berlin//NONSGML kigkonsult.se iCalcreator 2.14//
METHOD:PUBLISH
X-WR-CALNAME:Gratis-in-Berlin Tip Kalender
X-WR-CALDESC:Erhalte Gratis-in-Berlin Tips in deinem Kalender
BEGIN:VEVENT
UID:20260422T084203UTC-8080DiBuzt@Gratis-in-Berlin
DTSTAMP:20260422T084203Z
DESCRIPTION:Gemeinsam wollen wir uns die vorhandene Vegetation des Spreepar
 ks anschauen und grundlegende Fragen der Botanik und Ökologie gemeinsam bea
 ntworten.Für viele Menschen stehen Pflanzen einfach auf der Wiese oder im Wald\
 , sind grün und wachsen. Doch Pflanzen können viel mehr. Sie gehen Gemeinschaften 
 ein\, kommunizieren untereinander oder bekämpfen sich. Woher weiß die Pflanze
  wo oben und unten ist? Welche Nährstoffe benötigen Pflanzen und wie bekommen s
 ie diese?Gemeinsam wollen wir uns die vorhandene Vegetation des Spreeparks
  anschauen und diese und mehr grundlegende Fragen der Botanik und Ökologie 
 zusammen beantworten. Dabei zeigen wir anhand von Beispielarten wie sich P
 flanzen evolutionär und welche fantastischen Anpassungen sie an verschiedens
 te Lebensbedingungen entwickelt haben.Referent: Martin SchützKosten: kostenlosA
 lle Termine: Di 14.05. / Di 04.06. / Mi 24.07. / Mi 04.09.\n\nViel Spass w
 ünscht Gratis-in-Berlin\n\nLink zum Tip: https://www.gratis-in-berlin.de/kalend
 er/item/2066508-botanische-fuehrung\nZu den Gratis-in-Berlin Angeboten: ht
 tp://www.gratis-in-berlin.de\n
DTSTART;VALUE=DATE:20240826
DTEND;VALUE=DATE:20240827
SUMMARY:Botanische Führung
END:VEVENT
END:VCALENDAR
