BEGIN:VCALENDAR
VERSION:2.0
PRODID:-//Gratis-in-Berlin//NONSGML kigkonsult.se iCalcreator 2.14//
METHOD:PUBLISH
X-WR-CALNAME:Gratis-in-Berlin Tip Kalender
X-WR-CALDESC:Erhalte Gratis-in-Berlin Tips in deinem Kalender
BEGIN:VEVENT
UID:20260420T115426UTC-0077ANUVnx@Gratis-in-Berlin
DTSTAMP:20260420T115426Z
DESCRIPTION:Der Spreepark mit seinen diversen Kleingewässern und dem namensge
 benden Fluss bietet vielen Tier- und Pflanzenarten einen Lebensraum.Desweg
 en wollen wir uns bei dieser Führung die Gewässer vor Ort anschauen\, im Anschlus
 s Wasserproben nehmen und die darin enthaltenen Lebewesen unter dem Mikros
 kop betrachten. Durch die Bestimmung der Organismen können wir Rückschlüsse über den ökolo
 gischen Zustand eines Gewässers ziehen. Dabei wollen wir auch auf die Unters
 chiede zwischen Stillgewässern und Fließgewässern zu sprechen kommen und aufzei
 gen\, wie wichtig es ist\, unsere Gewässer zu schützen.\n\nViel Spass wünscht Gratis-i
 n-Berlin\n\nLink zum Tip: https://www.gratis-in-berlin.de/tolle-touren/ite
 m/2066792-gewaesseroekologische-fuehrung\nZu den Gratis-in-Berlin Angebote
 n: http://www.gratis-in-berlin.de\n
DTSTART;VALUE=DATE:20240820
DTEND;VALUE=DATE:20240821
SUMMARY:Gewässerökologische Führung
END:VEVENT
END:VCALENDAR
