BEGIN:VCALENDAR
VERSION:2.0
PRODID:-//Gratis-in-Berlin//NONSGML kigkonsult.se iCalcreator 2.14//
METHOD:PUBLISH
X-WR-CALNAME:Gratis-in-Berlin Tip Kalender
X-WR-CALDESC:Erhalte Gratis-in-Berlin Tips in deinem Kalender
BEGIN:VEVENT
UID:20260422T103050UTC-2976x1HvwL@Gratis-in-Berlin
DTSTAMP:20260422T103050Z
DESCRIPTION:Der VCD Nordost setzt im Rahmen der Funmove-Radtouren die Serie
  seiner Tagestouren auf dem Telegraphenradweg fort. Am Sonntag geht es zu 
 den Stationen 14 bis 16 von Magdeburg bis Oschersleben in der Magdeburger 
 Börde.&nbsp\;Treffpunkt ist am 18. August um 09.30 Uhr am östlichen Ende des Bah
 nsteiges 1/2 des Bahnhofs Berlin-Ostkreuz. Im Regionalexpress&nbsp\; RE 1 
 geht es nach Magdeburg. die dortige Station 16 der Telegrafenlinie war in 
 der Johanniskirche untergebracht\, deren Turm kann bestiegen werden.&nbsp\
 ;Auf etwa 42 km geht es durch die Landschaft der Magdeburger Börde auf Radweg
 en\, Landstraßen und sonstigen Wegen\, die teilweise rustikal sind. Die Sta
 tion 16 war im Schlossturm von Ampfurth untergebracht. Von dort geht es na
 ch Oschersleben (Bode)\, wo es im Zug über Magdeburg wieder zurück nach Berlin geht.
 \n\nViel Spass wünscht Gratis-in-Berlin\n\nLink zum Tip: \nZu den Gratis-in-Ber
 lin Angeboten: http://www.gratis-in-berlin.de\n
DTSTART;VALUE=DATE:20240818
DTEND;VALUE=DATE:20240819
SUMMARY:Kaisers SMS - Radtour auf dem Telegraphenradweg von Magdeburg nach 
 Oschersleben
END:VEVENT
END:VCALENDAR
