BEGIN:VCALENDAR
VERSION:2.0
PRODID:-//Gratis-in-Berlin//NONSGML kigkonsult.se iCalcreator 2.14//
METHOD:PUBLISH
X-WR-CALNAME:Gratis-in-Berlin Tip Kalender
X-WR-CALDESC:Erhalte Gratis-in-Berlin Tips in deinem Kalender
BEGIN:VEVENT
UID:20260422T102658UTC-0288NwZiPF@Gratis-in-Berlin
DTSTAMP:20260422T102658Z
DESCRIPTION:For 40 years\, the Stasi secured the rule of the ruling SED par
 ty. In its ?fight against the enemy\,? the Ministry for State Security exp
 anded further and further\, in Lichtenberg and throughout the GDR. In 1990
 \, courageous citizens not only saved the secret police's files from destr
 uction\, they also turned Mielke's headquarters back into a public space. 
 Today\, the Stasi Records Archive is located here in the Federal Archives\
 , among other places\, and provides information about the work of the Stas
 i and its files.?A monument to surveillance?: The Stasi Records Archive st
 ores 111 kilometers of files\, many of which contain personal data about i
 ndividuals collected by the State Security Service. The exhibition ?Einbli
 ck ins Geheime? (Insight into the Secret) makes the significance of this a
 rchive tangible.After the tour\, you will have the opportunity to visit ou
 r sample file collection. It consists of reproductions of original Stasi d
 ocuments. In addition to case files and personnel files of Stasi officers\
 , there are also files of those affected. They have consented to the publi
 cation of their documents and make it possible to ?gain insight into the s
 ecret.?Registration via einblick-ins-geheime@bundesarchiv.de or tel. 030 1
 8 665-6699The meeting point for the tour is in the Stasi Records Archive\,
  Building 7\, on the grounds of the former Stasi headquarters.\n\nViel Spa
 ss wünscht Gratis-in-Berlin\n\nLink zum Tip: \nZu den Gratis-in-Berlin Angebote
 n: http://www.gratis-in-berlin.de\n
DTSTART;VALUE=DATE:20251015
DTEND;VALUE=DATE:20251016
SUMMARY:Secret after 5 ? After-hours tour of the Stasi Records Archive exhi
 bition ?Einblick ins Geheime? (Insight into the Secret)
END:VEVENT
END:VCALENDAR
