BEGIN:VCALENDAR
VERSION:2.0
PRODID:-//Gratis-in-Berlin//NONSGML kigkonsult.se iCalcreator 2.14//
METHOD:PUBLISH
X-WR-CALNAME:Gratis-in-Berlin Tip Kalender
X-WR-CALDESC:Erhalte Gratis-in-Berlin Tips in deinem Kalender
BEGIN:VEVENT
UID:20260419T145115UTC-1100Bkm5Vx@Gratis-in-Berlin
DTSTAMP:20260419T145115Z
DESCRIPTION:Dauer: ca. 1 Stunde Treffpunkt: Info-Tresen im Foyer des Benutz
 ungszentrums Eine Anmeldung ist nicht erforderlich. Entdecken Sie die bewe
 gte Geschichte des Geländes an der Finckensteinallee. 1873 als Preußische Hau
 ptkadettenanstalt errichtet\, wurden die Gebäude in der Weimarer Republik al
 s Gymnasium zivil genutzt. In der NS-Zeit bezog die Leibstandarte Adolf Hi
 tler 1933 hier Quartier\, ihre architektonischen Spuren sind bis heute sic
 htbar. Nach Ende des Zweite Weltkrieges nutzte dann die US-Armee das Gelände
  unter dem Namen ?Andrew Barracks?\, bis nach dem Abzug der Amerikaner im 
 September 1994 das Bundesarchiv die Liegenschaft übernahm. Heute befindet sich 
 hier das 2021 in Betrieb genommene Benutzungszentrum mit 112 Arbeitsplätzen 
 für die Benutzung von Schriftgut\, Karten\, Plänen sowie audiovisuellen Medien in
  analoger Form. Zu den hier verwahrten Beständen zählen die zivilen zentralen 
 staatlichen Unterlagen sowohl aus der Zeit des Deutschen Reiches (bis 1945
 ) als auch der DDR (mit Ausnahme der Stasi-Unterlagen). Zudem sind die Arc
 hivabteilungen Audiovisuelle Medien (früher: Filmarchiv) und B (für Bundesrepublik) 
 hier vertreten. Neben der Einsichtnahme in historische Unterlagen lädt das B
 undesarchiv mit Ausstellungen\, Filmvorführungen und Vortragsveranstaltungen zu
 m Besuch ein.Alle Teilnehmenden der Führung sind herzlich zu folgendem Vortrag 
 im Anschluss eingeladen: 18:00 Uhr: ?Ambivalenzen der Kulturpolitik. Narra
 tive\, Akteure\, Zäsuren' Referent: Prof. Dr. i. R. Gerd Dietrich (Humboldt-
 Universität zu Berlin) Weitere Informationen zur SAPMO-Vortragsreihe ?Kunst 
 und Kultur in der DDR' finden Sie unter: https://www.bundesarchiv.de/sapmo
 -vortragsreihe\n\nViel Spass wünscht Gratis-in-Berlin\n\nLink zum Tip: \nZu den
  Gratis-in-Berlin Angeboten: http://www.gratis-in-berlin.de\n
DTSTART;VALUE=DATE:20260319
DTEND;VALUE=DATE:20260320
SUMMARY:Archivführung im Bundesarchiv Lichterfelde
END:VEVENT
END:VCALENDAR
