BEGIN:VCALENDAR
VERSION:2.0
PRODID:-//Gratis-in-Berlin//NONSGML kigkonsult.se iCalcreator 2.14//
METHOD:PUBLISH
X-WR-CALNAME:Gratis-in-Berlin Tip Kalender
X-WR-CALDESC:Erhalte Gratis-in-Berlin Tips in deinem Kalender
BEGIN:VEVENT
UID:20260420T102613UTC-4479m6UbvV@Gratis-in-Berlin
DTSTAMP:20260420T102613Z
DESCRIPTION:Tauche ein in die faszinierenden Biografien von Frauen\, die Sc
 höneberg geprägt haben ? damals wie heute. Gemeinsam mit mir entdeckst du am Fr
 auentag auf einem Kiezspaziergang historische Persönlichkeiten und beeindruck
 ende Frauen der Gegenwart. Lass dich von vergessenen Geschichten überraschen un
 d erfahre Spannendes über deinen Stadtteil\, das du so vielleicht noch nicht ka
 nntest! Treffpunkt: Viktoria-Luise-Platz 6 (vor dem Lette Verein)\n\nViel 
 Spass wünscht Gratis-in-Berlin\n\nLink zum Tip: https://www.gratis-in-berlin.de
 /kalender/item/2077514-kiezspaziergang-frauen-in-schoeneberg\nZu den Grati
 s-in-Berlin Angeboten: http://www.gratis-in-berlin.de\n
DTSTART;VALUE=DATE:20260308
DTEND;VALUE=DATE:20260309
SUMMARY:Kiezspaziergang: Frauen in Schöneberg
END:VEVENT
END:VCALENDAR
