BEGIN:VCALENDAR
VERSION:2.0
PRODID:-//Gratis-in-Berlin//NONSGML kigkonsult.se iCalcreator 2.14//
METHOD:PUBLISH
X-WR-CALNAME:Gratis-in-Berlin Tip Kalender
X-WR-CALDESC:Erhalte Gratis-in-Berlin Tips in deinem Kalender
BEGIN:VEVENT
UID:20260419T184231UTC-4973Umxjiv@Gratis-in-Berlin
DTSTAMP:20260419T184231Z
DESCRIPTION:For forty years\, the Stasi secured the rule of the SED state p
 arty in the GDR. In its ?struggle to combat the enemy\,? the Ministry for 
 State Security (Stasi) expanded its headquarters in Lichtenberg and across
  the country. In 1990\, brave citizens stopped secret police employees fro
 m destroying documents\; later\, they turned Mielke?s headquarters into a 
 publicly accessible space. Today\, the Stasi Records Archive in the Federa
 l Archives is located here\, educating the public about the Stasi?s activi
 ties and the documents it left behind. ?A monument to surveillance?: The S
 tasi Records Archive contains 111 kilometres of files\, many of which cont
 ain personal data collected by the State Security. The exhibition ?Access 
 to Secrecy? vividly conveys the significance of this archive. After the to
 ur\, participants have the opportunity to visit our sample files collectio
 n of reproductions of original Stasi documents. In addition to the adminis
 trative and personnel files of Stasi officers\, the collection presents do
 cuments on victims who have consented to the publication of their files. I
 n this way\, they are helping provide ?access to secrecy?.Register at einb
 lick-ins-geheime@bundesarchiv.de or call: +49 30 18 665-6770\n\nViel Spass
  wünscht Gratis-in-Berlin\n\nLink zum Tip: \nZu den Gratis-in-Berlin Angeboten:
  http://www.gratis-in-berlin.de\n
DTSTART;VALUE=DATE:20260422
DTEND;VALUE=DATE:20260423
SUMMARY:After Hours Tour Evening Exhibition Tour 'Access to Secrecy'
END:VEVENT
END:VCALENDAR
