BEGIN:VCALENDAR
VERSION:2.0
PRODID:-//Gratis-in-Berlin//NONSGML kigkonsult.se iCalcreator 2.14//
METHOD:PUBLISH
X-WR-CALNAME:Gratis-in-Berlin Tip Kalender
X-WR-CALDESC:Erhalte Gratis-in-Berlin Tips in deinem Kalender
BEGIN:VEVENT
UID:20260419T145316UTC-425020ZaVo@Gratis-in-Berlin
DTSTAMP:20260419T145316Z
DESCRIPTION:Für alle\, die wissen möchten\, warum Kreuzberg in den 1980er Jahren de
 r bekannteste Bezirk Berlins war und bis heute etwas ?Besonderes? istin de
 utscher Sprache Tour I: ?Hausbesetzer:innenbewegung 70er und 80er?Treffpun
 kt: Adalbertstraße / Ecke BethaniendammEnde: Görlitzer BahnhofDe Hausbesetzer:
 innenbewegung West-Berlin begann 1979 in SO 36\, weitete sich 1981 auf gan
 z Berlin aus und endete 1984 in Kreuzberg 36. Durch Geschichten und Erinne
 rungen an eine Ära des sozialen Wandels und politischen Engagements eröffnen d
 ie Touren ein Verständnis für die Wurzeln des Bezirks\, die noch heute lebendig s
 ind. Andy\, waschechter Kreuzberger\, ?ü60? und seit 20 Jahren im Regenbogenfab
 rikkollektiv\, wird euch durch SO36 führen und versuchen\, euch ?das Gefühl und das 
 Leben damals? nahe zu bringen. Wir werden Orte\, Häuser und Plätze von ?damals
 ? besuchen und teilweise wird dort auch heute noch das ?Damals? lebendig g
 ehalten. Fotos sowie persönliche Erlebnisse und Geschichten ergänzen die histor
 ischen Fakten und verleihen den Spaziergängen eine ganz persönliche Note. Preis
  pro Person: 12\,00 ? bis 18\,00 ? ? nach Selbsteinschätzung max. 15 Teilneh
 mer:innen\, mindestens 5 Teilnehmer:innen.Vorher bitte per Email verbindli
 ch anmelden: besichtigung@regenbogenfabrik.deNächster Termin:So.\, 14.06.26 
 um 13:00 Uhr\n\nViel Spass wünscht Gratis-in-Berlin\n\nLink zum Tip: \nZu den G
 ratis-in-Berlin Angeboten: http://www.gratis-in-berlin.de\n
DTSTART;VALUE=DATE:20260510
DTEND;VALUE=DATE:20260511
SUMMARY:'Kiezspaziergang durch das ?widerständige SO36? - Organisiert von der
  Regenbogenfabrik
END:VEVENT
END:VCALENDAR
