BEGIN:VCALENDAR
VERSION:2.0
PRODID:-//Gratis-in-Berlin//NONSGML kigkonsult.se iCalcreator 2.14//
METHOD:PUBLISH
X-WR-CALNAME:Gratis-in-Berlin Tip Kalender
X-WR-CALDESC:Erhalte Gratis-in-Berlin Tips in deinem Kalender
BEGIN:VEVENT
UID:20260419T153722UTC-75461fiisZ@Gratis-in-Berlin
DTSTAMP:20260419T153722Z
DESCRIPTION:Wir entdecken gemeinsam das Gelände der ufaFabrik und erfahren be
 i einer Führung näheres zur Ökologie\, Geschichte und sozialen Angeboten. Eine bar
 rierefreie Toilette ist verfügbar.Zeitraum: 17:00 - 19:00Treffpunkt: Vor der In
 fozentrale am Haupteingang zum Gelände der ufaFabrikSollten Sie eine Mobilit
 ätsunterstützung von zu Hause/ bis nach Hause oder ein*e Gebärdensprachdolmetscher*
 in benötigen\, melden Sie sich bitte bis zum 14. Mai 2026&nbsp\;telefonisch o
 der per Email an. Tel.: 0155 602 013 21 oder 0155 604 355 79Email: mobile-
 stadtteilarbeit@nusz.de\n\nViel Spass wünscht Gratis-in-Berlin\n\nLink zum Tip:
  \nZu den Gratis-in-Berlin Angeboten: http://www.gratis-in-berlin.de\n
DTSTART;VALUE=DATE:20260521
DTEND;VALUE=DATE:20260522
SUMMARY:Führung durch die ufaFabrik (Barrierefrei und auf Anfrage Mobilitätsunters
 tützt und mit Gebärdensprachdolmetscher*in)
END:VEVENT
END:VCALENDAR
