BEGIN:VCALENDAR
VERSION:2.0
PRODID:-//Gratis-in-Berlin//NONSGML kigkonsult.se iCalcreator 2.14//
METHOD:PUBLISH
X-WR-CALNAME:Gratis-in-Berlin Tip Kalender
X-WR-CALDESC:Erhalte Gratis-in-Berlin Tips in deinem Kalender
BEGIN:VEVENT
UID:20260419T170901UTC-1313307IZ9@Gratis-in-Berlin
DTSTAMP:20260419T170901Z
DESCRIPTION:Friedhöfe sind ein idealer Rückzugsort für Vögel. Alte Bäume\, Mauern und Grab
 stätten\, Wiesen\, Efeu und eine vielfältige Bepflanzung bieten Lebensraum für vers
 chiedene Stadtvögel. Auf einer Tour über den Kirchhof mit dem Vogelexperten Jan He
 rmel wollen wir Meisen\, Finken\, Drosseln\, Baumläufer und andere Vögel beobac
 hten und ihren Gesang kennenlernen. Bitte ein Fernglas mitbringen!\n\nViel
  Spass wünscht Gratis-in-Berlin\n\nLink zum Tip: \nZu den Gratis-in-Berlin Ange
 boten: http://www.gratis-in-berlin.de\n
DTSTART;VALUE=DATE:20260426
DTEND;VALUE=DATE:20260427
SUMMARY:Vogelbeobachtung auf dem  Alten Zwölf-Apostel-Kirchhof
END:VEVENT
END:VCALENDAR
