BEGIN:VCALENDAR
VERSION:2.0
PRODID:-//Gratis-in-Berlin//NONSGML kigkonsult.se iCalcreator 2.14//
METHOD:PUBLISH
X-WR-CALNAME:Gratis-in-Berlin Tip Kalender
X-WR-CALDESC:Erhalte Gratis-in-Berlin Tips in deinem Kalender
BEGIN:VEVENT
UID:20260421T133829UTC-4697JW2UpZ@Gratis-in-Berlin
DTSTAMP:20260421T133829Z
DESCRIPTION:Wie lebten queere Menschen in der DDR und wie machten sie sich 
 für ihre Interessen stark?Über die Anfänge der LGBTIQ-Selbstorganisation in der DD
 R der 1970er Jahre kann Peter Rausch als einer der Protagonisten aus erste
 r Hand berichten. Er gründete 1973 mit Bekannten die Homosexuelle Interessengem
 einschaft Berlin (HIB). Sie wollten die gesellschaftliche Akzeptanz für Schwule
  und Lesben verbessern\, Beratungen und Kommunikation für sie anbieten. Die DDR
 -Behörden behinderten die Arbeit der HIB. LGBTIQ wie Peter Rausch entsprachen
  nicht dem sozialistischen Familienideal der DDR und wurden diskriminiert\
 , auch wenn schwule Männer nicht mehr strafrechtlich verfolgt wurden. Vor un
 d nach dem Mauerfall engagierte und engagiert sich Peter Rausch ehrenamtli
 ch beim Sonntags-Club\, einem Beratungs-\, Informations- und Kommunikation
 szentrum der Szene. Die Veranstaltung besteht aus einer Führung mit anschließend
 em Zeitzeugengespräch und findet anlässlich des Queer History Month in Berlin 
 statt.\n\nViel Spass wünscht Gratis-in-Berlin\n\nLink zum Tip: \nZu den Gratis-
 in-Berlin Angeboten: http://www.gratis-in-berlin.de\n
DTSTART;VALUE=DATE:20260503
DTEND;VALUE=DATE:20260504
SUMMARY:LGBTIQ-Aktivismus in Ost-Berlin
END:VEVENT
END:VCALENDAR
