BEGIN:VCALENDAR
VERSION:2.0
PRODID:-//Gratis-in-Berlin//NONSGML kigkonsult.se iCalcreator 2.14//
METHOD:PUBLISH
X-WR-CALNAME:Gratis-in-Berlin Tip Kalender
X-WR-CALDESC:Erhalte Gratis-in-Berlin Tips in deinem Kalender
BEGIN:VEVENT
UID:20260422T154406UTC-9009RNmrcA@Gratis-in-Berlin
DTSTAMP:20260422T154406Z
DESCRIPTION:Stadtrundgang mit Stefan Zollhauser an besonderen Filmdreh- und
  Produktionsorten.Mit Stefan Zollhauser wandern wir durch den Prenzlauer B
 erg und beleuchten dabei die doppelte Abgründigkeit der Wirklichkeit ? auf den 
 Spuren von Illusionistinnen\, und Illusionisten\, Agenten und leidenschaft
 lichen Realitätsverweigerern. Von den Filmen der Skladanowsky Brüder bis zum umge
 wandelten Broiler-Kino und anhand einer besonderen Auswahl von Filmen aus 
 unseren Beständen begeben wir uns an deren Dreh- und Produktionsorte.Treffpu
 nkt vor Ort an der Ecke Kastanienallee/Oderberger StraßeWeitere Termine: Do
 . 11.06. und Do. 27.08.\, jeweils von 18 ? 20 UhrBitte auf wettergerechte 
 Kleidung achten und bei Hitze genug zu Trinken mitbringen. Wir starten pünktlic
 h.\n\nViel Spass wünscht Gratis-in-Berlin\n\nLink zum Tip: \nZu den Gratis-in-B
 erlin Angeboten: http://www.gratis-in-berlin.de\n
DTSTART;VALUE=DATE:20260611
DTEND;VALUE=DATE:20260612
SUMMARY:Ein Ausflug in die Berliner Film- und Kinogeschichte
END:VEVENT
END:VCALENDAR
