BEGIN:VCALENDAR
VERSION:2.0
PRODID:-//Gratis-in-Berlin//NONSGML kigkonsult.se iCalcreator 2.14//
METHOD:PUBLISH
X-WR-CALNAME:Gratis-in-Berlin Tip Kalender
X-WR-CALDESC:Erhalte Gratis-in-Berlin Tips in deinem Kalender
BEGIN:VEVENT
UID:20260423T133747UTC-5085C1f2fO@Gratis-in-Berlin
DTSTAMP:20260423T133747Z
DESCRIPTION:Wir gehen auf Spurensuche: Lebenswege engagierter Menschen sowi
 e Architektur\, Kunst und Dokumente werden zu ?Haltestellen? einer Zeitrei
 se vom 18. Jahrhundert bis heute. Von der Amerika?Gedenkbibliothek aus erk
 unden wir Vergangenheit und Gegenwart rund um Hallesches Tor und Mehringpl
 atz erzählerisch und im Gespräch.Empfang mit Büchern\, Bildern und Gesprächen ab 11.3
 0 Uhr im Foyer der Amerika-Gedenkbibliothek\, Blücherplatz 1\, 10961 Berlin.Beg
 inn des Stadtrundgangs um 12:30 Uhr bis 14:30 Uhr.Bilder\, Dokumente\, Tex
 te\, Erinnerungen\, Alltagserfahrungen und Geschichten der Teilnehmenden s
 ind willkommen!\n\nViel Spass wünscht Gratis-in-Berlin\n\nLink zum Tip: \nZu de
 n Gratis-in-Berlin Angeboten: http://www.gratis-in-berlin.de\n
DTSTART;VALUE=DATE:20260621
DTEND;VALUE=DATE:20260622
SUMMARY:Stadtraum lesen | Erzählen Sie mit
END:VEVENT
END:VCALENDAR
