BEGIN:VCALENDAR
VERSION:2.0
PRODID:-//Gratis-in-Berlin//NONSGML kigkonsult.se iCalcreator 2.14//
METHOD:PUBLISH
X-WR-CALNAME:Gratis-in-Berlin Tip Kalender
X-WR-CALDESC:Erhalte Gratis-in-Berlin Tips in deinem Kalender
BEGIN:VEVENT
UID:20260423T142720UTC-1949uUpUl2@Gratis-in-Berlin
DTSTAMP:20260423T142720Z
DESCRIPTION:Welche kolonialen Spuren prägen Berlin bis heute? Auf der Tour du
 rch Berlin?Mitte geht es um Straßennamen\, Denkmäler und Orte\, die von der k
 olonialen Vergangenheit erzählen ? und von Geschichten\, die lange unsichtba
 r blieben.Wir beleuchten die Verflechtungen Berlins mit dem Kolonialismus\
 , ihre Auswirkungen auf die Gegenwart und besuchen zum Abschluss den Leses
 aal der Berlin?Sammlungen\, um die Themen weiter zu vertiefen.Mit Anmeldun
 g unter: berlin-hub@zlb.deDen Treffpunkt teilen wir Ihnen anschließend mit.
  Die Anzahl der Plätze ist begrenzt.\n\nViel Spass wünscht Gratis-in-Berlin\n\nLi
 nk zum Tip: \nZu den Gratis-in-Berlin Angeboten: http://www.gratis-in-berl
 in.de\n
DTSTART;VALUE=DATE:20260622
DTEND;VALUE=DATE:20260623
SUMMARY:Unterwegs in Berlin mit... Justice Mvemba
END:VEVENT
END:VCALENDAR
