BEGIN:VCALENDAR
VERSION:2.0
PRODID:-//Gratis-in-Berlin//NONSGML kigkonsult.se iCalcreator 2.14//
METHOD:PUBLISH
X-WR-CALNAME:Gratis-in-Berlin Tip Kalender
X-WR-CALDESC:Erhalte Gratis-in-Berlin Tips in deinem Kalender
BEGIN:VEVENT
UID:20260424T113219UTC-8919VLBeH1@Gratis-in-Berlin
DTSTAMP:20260424T113219Z
DESCRIPTION:Der Weihnachtsmarkt zwischen Rotem Rathaus und Marienkirche bie
 tet für Familien einiges zum Entdecken und Erleben: eine Marktgasse in Altberli
 ner Anmutung\, Berlins größte Schlittschuh?Eisbahn am Neptunbrunnen\, Puppens
 pieler und Märchenerzähler\, Weihnachtsmann?Schlittenfahrten auf dem Hochseil\
 , ein Riesenrad mit Panoramagondeln\, eine Ponyreitbahn mit Streichelzoo\,
  historische Kinderkarussells mit Holzpferdchen und natürlich Kulinarisches und
  Glühwein. Montag bis Freitag von 12 bis 22 Uhr\, Samstag und Sonntag von 11 bi
 s 22 Uhr\, Heiligabend geschlossen\, 25. und 26. Dezember von 12 bis 21 Uh
 r\, 30. Dezember von 12 bis 20 Uhr\n\nViel Spass wünscht Gratis-in-Berlin\n\nLi
 nk zum Tip: \nZu den Gratis-in-Berlin Angeboten: http://www.gratis-in-berl
 in.de\n
DTSTART;VALUE=DATE:20251124
DTEND;VALUE=DATE:20251231
SUMMARY:Weihnachtsmarkt 'Berliner Weihnachtszeit' am Roten Rathaus / Alexan
 derplatz mit Eisbahn (außer Heiligabend)
END:VEVENT
END:VCALENDAR
