BEGIN:VCALENDAR
VERSION:2.0
PRODID:-//Gratis-in-Berlin//NONSGML kigkonsult.se iCalcreator 2.14//
METHOD:PUBLISH
X-WR-CALNAME:Gratis-in-Berlin Tip Kalender
X-WR-CALDESC:Erhalte Gratis-in-Berlin Tips in deinem Kalender
BEGIN:VEVENT
UID:20260425T134150UTC-9608K5gxGz@Gratis-in-Berlin
DTSTAMP:20260425T134150Z
DESCRIPTION:Weihnachtssingen bei Union Berlin\, 23. Dezember 2012\, Einlass
  ab 17:30 Uhr. Ab 19 Uhr gehts los\, es lohnt sich aber schon wegen der to
 llen Gansehaut-Atmosphare vorher dazusein.  Wo sonst die Zweitliga-Profis 
 der -Eisernen- um Punkte kampfen und von den Rangen -Eisern Union- erschal
 lt (und nach Meinung vieler die Stimmung besser als bei Hertha ist \;-)\, 
 werden kurz vor Heiligabend ganz andere Tone angeschlagen. Das Stadion ers
 trahlt im Licht tausender Kerzen\, aus ebenso vielen Kehlen ertonen altbek
 annte Weihnachtslieder. Es gibt Glühwein für die Großen\, Schokolade für die Kinder und na
 türlich die Weihnachtsgeschichte für alle. Unter die Unioner mischen sich wohl Jahr 
 für Jahr immer mehr Leute\, die noch nie ein Union-Spiel gesehen haben.\n\nViel
  Spass wünscht Gratis-in-Berlin\n\nLink zum Tip: \nZu den Gratis-in-Berlin Ange
 boten: http://www.gratis-in-berlin.de\n
DTSTART;VALUE=DATE:20121223
DTEND;VALUE=DATE:20121224
SUMMARY:Weihnachtssingen 2012 bei Union Berlin in der Alten Forsterei
END:VEVENT
END:VCALENDAR
