BEGIN:VCALENDAR
VERSION:2.0
PRODID:-//Gratis-in-Berlin//NONSGML kigkonsult.se iCalcreator 2.14//
METHOD:PUBLISH
X-WR-CALNAME:Gratis-in-Berlin Tip Kalender
X-WR-CALDESC:Erhalte Gratis-in-Berlin Tips in deinem Kalender
BEGIN:VEVENT
UID:20260420T173209UTC-4634voFMpE@Gratis-in-Berlin
DTSTAMP:20260420T173209Z
DESCRIPTION:Auch dieses Jahr gibts zu Heiligabend bestimmt das Weihnachts-K
 rippenspiel im Ballhaus Ost: Wie man Wärme teilen kann. Um 11\, 12\, 13 und 
 14 Uhr. Eintritt frei für Groß und Klein. Am Heiligabend geht es hier darum\, Fr
 eude und Besinnlichkeit zu feiern mit 'wunderbaren Erinnerungen und strahl
 enden Kinderaugen'\, ein klassisches Krippenspiel.\nMehr zum Stück und zum auch
  sonst besuchenswerten Theater über die Website.\n\nViel Spass wünscht Gratis-in-Ber
 lin\n\nLink zum Tip: \nZu den Gratis-in-Berlin Angeboten: http://www.grati
 s-in-berlin.de\n
DTSTART;VALUE=DATE:20231224
DTEND;VALUE=DATE:20231225
SUMMARY:Krippenspiel Weihnachten: Wie man Wärme teilen kann 
END:VEVENT
END:VCALENDAR
