BEGIN:VCALENDAR
VERSION:2.0
PRODID:-//Gratis-in-Berlin//NONSGML kigkonsult.se iCalcreator 2.14//
METHOD:PUBLISH
X-WR-CALNAME:Gratis-in-Berlin Tip Kalender
X-WR-CALDESC:Erhalte Gratis-in-Berlin Tips in deinem Kalender
BEGIN:VEVENT
UID:20260422T110430UTC-3711E2ns1i@Gratis-in-Berlin
DTSTAMP:20260422T110430Z
DESCRIPTION:Auch 2012 wird das traditionelle Hafenfest auf der Greenwichpro
 menade gefeiert. Mit großem Feuerwerk am Freitagabend und Bühnenprogramm. \nHigh
 lights: das bekannte Electric Light Orchestra (performed by Phil Bates & B
 and)\, die  Show der -zBerlin Blues Brothers- und -zThe Abba Tribute Show-
 .\n\nProgramm auf der Hauptbühne:\n\nFreitag\, 20. Juli\n20.00-21.00 Uhr Berlin
  Blues Brothers\n21.00-23.00 Uhr Flashback\n21.45-22.15 Uhr Oliver Frank\n
 \nSamstag\, 21. Juli\n10.00-16.00 Uhr Discothek und Forever Young \n16.00-
 21.00 Uhr Flashback  \n21.30-23.30 Uhr Electric Light Orchestra feat. Phil
  Bates\n\nSonntag\, 22. Juli\n10.00-13.00 Uhr Alan Fields & Band\n15.00-16
 .30 Uhr Banana Mama Caribbean Show\n16.30-17.30 Uhr Duo Thomasius\n17.30-1
 8.30 Uhr Ekki Gopelt Show\n19.00-21.00 Uhr The Abba Tribute Show\n\nBühne Green
 wich Kanonenplatz\n\nFreitag\, 20. Juli\n18.00-23.00 Uhr Die Klienten\n\nS
 amstag\, 21. Juli\n10.00-12.00 Uhr Discothek\n12.00-17.00 Uhr Down The Lin
 e\n17.00-18.00 Uhr Discothek\n18.00-23.30 Uhr Alan Fields\n\nSonntag\, 22.
  Juli\n10.00-13.00 Uhr Color of Voice\n15.00-16.00 Uhr Color of Voice\n17.
 00-21.00 Uhr Cool Cats\n\nAuf der Bühne an der Sechserbrücke gibt es Countrymusik un
 d Oldies mit -zAnne Bonny und die Rockpiraten- (19.7.\, 18 bis 20 Uhr)\, -
 zQuarter Horses- (20.7.\, 19 bis 23 Uhr)\, 'Frankie goes to Liverpool (21.
 7. 19 bis 23 Uhr)und -zAdam Keating & Freddie McCorkes- (22.7.\, 17.30 bis
  21 Uhr). \n\nAußerdem abends: Cocolorus Diaboli - Mittelalterband nordisch
  und Araga Mysteria - Feuershow.\n\nUnd was genau heute (noch) spannend un
 d kostenlos ist\, über den Link oder oben per Klick auf 'Heute gratis in Berlin
 '. :-)\n\n\nViel Spass wünscht Gratis-in-Berlin\n\nLink zum Tip: https://www.gr
 atis-in-berlin.de/item/2006556\nZu den Gratis-in-Berlin Angeboten: http://
 www.gratis-in-berlin.de\n
DTSTART;VALUE=DATE:20120719
DTEND;VALUE=DATE:20120723
SUMMARY:Hafenfest Tegel 2012. u.a. mit Electric Light Orchestra und Feuerwe
 rk
END:VEVENT
END:VCALENDAR
