BEGIN:VCALENDAR
VERSION:2.0
PRODID:-//Gratis-in-Berlin//NONSGML kigkonsult.se iCalcreator 2.14//
METHOD:PUBLISH
X-WR-CALNAME:Gratis-in-Berlin Tip Kalender
X-WR-CALDESC:Erhalte Gratis-in-Berlin Tips in deinem Kalender
BEGIN:VEVENT
UID:20260425T150716UTC-2044jT5cpT@Gratis-in-Berlin
DTSTAMP:20260425T150716Z
DESCRIPTION:Auch in der Saison 2012 / 2013 gibt es Winterwelt am Potsdamer 
 Platz mit Schmankerl-Hütten\, an ein paar Tagen Weihnachtsmarkt und vor allem d
 urchgehend eine tolle kostenlosen Open Air Eisbahn.  Auf der mit 40 Meter 
 langen und 13 Meter breiten großten mobilen Eisbahn Berlins konnen Schlitts
 chuh-Fans taglich von 10 bis 22 Uhr bei freiem Eintritt Eislaufen. Das Eis
  wird immer nach 1\,5 Stunden erneuert.  Am den Sonntagen 18. und 25.11 is
 t die Winterwelt geschlossen.  Wer keine Schlittschuhe mitbringt\, kann si
 e vor Ort ausleihen: für anderthalb Stunden gegen eine Leihgebühr von 2\,50 Euro pro
  Paar.   Auch kostenlos ist der Eislaufunterricht für Kinder zwischen 4 und 7 J
 ahren in Zusammenarbeit mit dem Bundesstützpunkt Eislauf Berlin. Drei geschulte
  Trainer/innen begleiten den Eislauf-Nachwuchs jeweils samstags und sonnta
 gs in der Zeit von 10 Uhr bis 11.30 Uhr.   Eine Rodelfahrt kostet 1 Euro 5
 0.           \n\nViel Spass wünscht Gratis-in-Berlin\n\nLink zum Tip: \nZu den 
 Gratis-in-Berlin Angeboten: http://www.gratis-in-berlin.de\n
DTSTART;VALUE=DATE:20121103
DTEND;VALUE=DATE:20130107
SUMMARY:Winterwelt 2012 / 2013 mit Eislaufen / Schlittschuhlaufen am Potsda
 mer Platz
END:VEVENT
END:VCALENDAR
