BEGIN:VCALENDAR
VERSION:2.0
PRODID:-//Gratis-in-Berlin//NONSGML kigkonsult.se iCalcreator 2.14//
METHOD:PUBLISH
X-WR-CALNAME:Gratis-in-Berlin Tip Kalender
X-WR-CALDESC:Erhalte Gratis-in-Berlin Tips in deinem Kalender
BEGIN:VEVENT
UID:20260422T202016UTC-8551IlVK87@Gratis-in-Berlin
DTSTAMP:20260422T202016Z
DESCRIPTION:Der Potsdamer Weihnachtsmarkt 'Blauer Lichterglanz in der histo
 rischen Mitte' in der Brandenburger Straße und auf dem Luisenplatz bietet f
 ür Groß und Klein neben Ständen in weihnachtlicher Atmosphäre auch Highlights wie ei
 ne Märchenbühne und Freilufteisbahn.Öffnungszeiten:Montag bis Donnerstag\, Sonntag
  von 11 bis 21 UhrFreitag und Samstag von 11 bis 22 Uhr24. Dezember geschl
 ossen25. und 26. Dezember von 11 bis 18 UhrWohl wieder Familienprogramm au
 f dem Luisenplatz\, letztes MalMärchenzeit mit Erzählungen und interaktiven Sp
 ielen auf derMärchenland-Bühne\, täglich 17 UhrSchlittschuhlaufen auf der Kunsteisb
 ahn\, täglich 10-21 UhrHaltestelle: Brandenburger Straße Tram 92\, 96\, Bus 6
 38\, 639\, 695\n\nViel Spass wünscht Gratis-in-Berlin\n\nLink zum Tip: \nZu den
  Gratis-in-Berlin Angeboten: http://www.gratis-in-berlin.de\n
DTSTART;VALUE=DATE:20251124
DTEND;VALUE=DATE:20251229
SUMMARY:Historischer Weihnachtsmarkt Potsdam - Blauer Lichterglanz (täglich a
 ußer Heiligabend)
END:VEVENT
END:VCALENDAR
