BEGIN:VCALENDAR
VERSION:2.0
PRODID:-//Gratis-in-Berlin//NONSGML kigkonsult.se iCalcreator 2.14//
METHOD:PUBLISH
X-WR-CALNAME:Gratis-in-Berlin Tip Kalender
X-WR-CALDESC:Erhalte Gratis-in-Berlin Tips in deinem Kalender
BEGIN:VEVENT
UID:20260425T134100UTC-4038oDTVHG@Gratis-in-Berlin
DTSTAMP:20260425T134100Z
DESCRIPTION:Auch 2012 gibt es natürllich wieder einige Weihnachtsgottesdienste u
 nd Andachten in den Berliner Kirchen. Aber am 24.12. um 22 Uhr gibt es auc
 h einen Weihnachtsgottesdienst an einem sehr außergewohnlichen Ort\, namlic
 h am Eingang Südseite (Kanzleramt) des - Berliner Hauptbahnhofes!  Weitere trad
 itionelle Weihnachtsgottesdienste:  - Gottesdienst in der Gedachtniskirche
  (24.12. ab 23 Uhr\, jeweils um 10 und 18 am 25.12. und 26.12.2012)\, Brei
 tscheidplatz\, 10789 Berlin\, Am Lustgarten\, 10178 Berlin - Weihnachtsgot
 tesdienst im Berliner Dom (18\, 20\, 22 und 24 Uhr an Heiligabend\, jeweil
 s um 10 und 18 am 25.12. und 26.12.2012)\n\nViel Spass wünscht Gratis-in-Berlin
 \n\nLink zum Tip: \nZu den Gratis-in-Berlin Angeboten: http://www.gratis-i
 n-berlin.de\n
DTSTART;VALUE=DATE:20121224
DTEND;VALUE=DATE:20121227
SUMMARY:Weihnachtsgottestdienste 2012 - Heiligabend sogar im Hauptbahnhof
END:VEVENT
END:VCALENDAR
