BEGIN:VCALENDAR
VERSION:2.0
PRODID:-//Gratis-in-Berlin//NONSGML kigkonsult.se iCalcreator 2.14//
METHOD:PUBLISH
X-WR-CALNAME:Gratis-in-Berlin Tip Kalender
X-WR-CALDESC:Erhalte Gratis-in-Berlin Tips in deinem Kalender
BEGIN:VEVENT
UID:20260419T165727UTC-61727JpvwO@Gratis-in-Berlin
DTSTAMP:20260419T165727Z
DESCRIPTION:Ein Oktoberfest in Mitte gibts auf dem Alexanderplatz. Besucher
  erwartet das volle Wiesn-Programm mit Biergarten\, Gaudi-Stube und großem 
 Dirndl-Wettbewerb. Auch zum Berliner Oktoberfest am Alexanderplatz (wohl w
 ieder zwischen Alexa und MediaMarkt) heißt es dann also zum Start schon im 
 September wieder: Anjezapft is.Bayrisches Ambiente noch und nöcher\, neben Pa
 ulaner Biergarten und Panorama Gaststube auch ein Marktbereich samt Glocke
 nturmFassbieranstich Freitag 17 Uhr 30\, danach Öffnungszeiten des Oktoberf
 estes: täglich von 10 bis 22 Uhr (ab 16 Uhr Bühnenprogramm)\n\nViel Spass wünscht Grat
 is-in-Berlin\n\nLink zum Tip: https://www.gratis-in-berlin.de/festivals/it
 em/2010556-oktoberfest-alexanderplatz-mitte-taeglich\nZu den Gratis-in-Ber
 lin Angeboten: http://www.gratis-in-berlin.de\n
DTSTART;VALUE=DATE:20250926
DTEND;VALUE=DATE:20251006
SUMMARY:Oktoberfest Alexanderplatz Mitte (täglich)
END:VEVENT
END:VCALENDAR
