BEGIN:VCALENDAR
VERSION:2.0
PRODID:-//Gratis-in-Berlin//NONSGML kigkonsult.se iCalcreator 2.14//
METHOD:PUBLISH
X-WR-CALNAME:Gratis-in-Berlin Tip Kalender
X-WR-CALDESC:Erhalte Gratis-in-Berlin Tips in deinem Kalender
BEGIN:VEVENT
UID:20260426T004603UTC-1120K2XNdm@Gratis-in-Berlin
DTSTAMP:20260426T004603Z
DESCRIPTION:2026 feiert radioeins wieder ein Parkfest im Park am Gleisdreie
 ck (auf dem Hauptplatz\, Ostteil\, Eingang Hornstraße). Wann? 22. - 30. Aug
 ust 2026.Eine Woche lang Livesendungen\, Konzerte\, Comedy\, Hörspielkino\, T
 heater\, Sportstunden und mehr spannende Veranstaltungen in einer tollen B
 iergarten-Atmosphäre - umsonst und draußen. Datum vormerken\, Programm wird r
 echtzeitig aktualisert.\n\nViel Spass wünscht Gratis-in-Berlin\n\nLink zum Tip:
  \nZu den Gratis-in-Berlin Angeboten: http://www.gratis-in-berlin.de\n
DTSTART;VALUE=DATE:20260822
DTEND;VALUE=DATE:20260831
SUMMARY:radioeins Parkfest Gleisdreieck mit Live-Konzerten\, Kino\, Theater
 \, Sport
END:VEVENT
END:VCALENDAR
