BEGIN:VCALENDAR
VERSION:2.0
PRODID:-//Gratis-in-Berlin//NONSGML kigkonsult.se iCalcreator 2.14//
METHOD:PUBLISH
X-WR-CALNAME:Gratis-in-Berlin Tip Kalender
X-WR-CALDESC:Erhalte Gratis-in-Berlin Tips in deinem Kalender
BEGIN:VEVENT
UID:20260423T152929UTC-6652HVk1kZ@Gratis-in-Berlin
DTSTAMP:20260423T152929Z
DESCRIPTION:Die Zeitgenössische Oper Berlin präsentiert zum fünften Mal mitten im Ber
 liner Hauptbahnhof das Festival ?Ankunft: Neue Musik?.&nbsp\; &nbsp\; In über 3
 0 Veranstaltungen erkunden mehr als 100 Künstler 11 Tage lang das Potential des
  Bahnhofs als Bühnen- und Konzertraum für die verschiedensten Spielarten der zeitgen
 össischen Musik. In Konzerten\, Filmen und Performances erleben und ermöglichen 
 Musiker\, Klangkünstler\, Tänzer\, Sänger und Bildende Künstler neue Publikumsnähe bei fre
 iem Eintritt. Hier begegnen sich Alltag und Kunst!\n\nViel Spass wünscht Gratis
 -in-Berlin\n\nLink zum Tip: \nZu den Gratis-in-Berlin Angeboten: http://ww
 w.gratis-in-berlin.de\n
DTSTART;VALUE=DATE:20130828
DTEND;VALUE=DATE:20130908
SUMMARY:Festival 'Ankunft: Neue Musik' im Berliner Hauptbahnhof
END:VEVENT
END:VCALENDAR
