BEGIN:VCALENDAR
VERSION:2.0
PRODID:-//Gratis-in-Berlin//NONSGML kigkonsult.se iCalcreator 2.14//
METHOD:PUBLISH
X-WR-CALNAME:Gratis-in-Berlin Tip Kalender
X-WR-CALDESC:Erhalte Gratis-in-Berlin Tips in deinem Kalender
BEGIN:VEVENT
UID:20260420T140407UTC-6784Jv2NH6@Gratis-in-Berlin
DTSTAMP:20260420T140407Z
DESCRIPTION: Berlin hat wieder eine Art Love Parade. Diese Techno Rave Para
 de heißt 'Zug der Liebe'.&nbsp\;Termin / Datum: 30. August 2025. Nach Rave 
 the Planet neue Chance auf eine Techno-Parade.\nStartpunkt:&nbsp\;Mauerpar
 k/Bernauer Straße\,&nbsp\;Bernauer Straße 48 (Per Klick auf 'Zum Stadtplan' 
 oben erscheint Karte).Route dann über über die Danziger Straße vorbei am Volkspa
 rk Friedrichshain Route über Volkspark Friedrichshain\, am Fernsehturm und Rote
 n Rathaus vorbei\, über die Fischerinsel und nahe Moritzplatz am Waldeckpark.Di
 e Strecke führt über folgende Straßen:Eberswalder StraßeDanziger StraßeLandsberger
  AlleePlatz der Vereinten NationenStrausberger PlatzKarl-Marx-AlleeKarl-Li
 ebknecht-StraßeUnter den LindenFriedrichstraßeLeipziger StraßeAxel-Springer-S
 traßeOranienstraße 125\, nahe AlexandrinenstraßeFoto-Copyright: Zug der Liebe
 \, Jens SchwanUnd per Klick hierauf findet Ihr bis dahin (weitere)&nbsp\;s
 pannende und kostenlose Veranstaltungen für genau heute in Berlin&nbsp\;(Fettsc
 hrift = Link :-) und per Klick hierauf&nbsp\;besondere Berlin Events morge
 n.\n\nViel Spass wünscht Gratis-in-Berlin\n\nLink zum Tip: \nZu den Gratis-in-B
 erlin Angeboten: http://www.gratis-in-berlin.de\n
DTSTART;VALUE=DATE:20250830
DTEND;VALUE=DATE:20250831
SUMMARY:Love Parade Zug der Liebe 2025 - Route der Techno Rave Parade
END:VEVENT
END:VCALENDAR
