BEGIN:VCALENDAR
VERSION:2.0
PRODID:-//Gratis-in-Berlin//NONSGML kigkonsult.se iCalcreator 2.14//
METHOD:PUBLISH
X-WR-CALNAME:Gratis-in-Berlin Tip Kalender
X-WR-CALDESC:Erhalte Gratis-in-Berlin Tips in deinem Kalender
BEGIN:VEVENT
UID:20260422T102707UTC-4903caGg9d@Gratis-in-Berlin
DTSTAMP:20260422T102707Z
DESCRIPTION:Einige spannende kostenlose Veranstaltungen findet Ihr per Klic
 k auf unsere Tagesübersicht Himmelfahrt + Vatertag in Berlin&nbsp\;(Fettschrift
  = Link \;-): Ein Star Trek Fanfest mit Filmen &amp\; mehr\, Die Lange Nac
 ht der Religionen\, Konzerte in Europas größtem Glockenspiel\, Blüten- und Frühlingfest
 e\, einen großen Flohmarkt\, der im Roten Rathaus ausgestellten DFB-Pokal\,
  ... am Wochenende rund um den Vatertag ist einiges los in Berlin.Per Klic
 k auf folgende Links findet Ihr immer&nbsp\;spannende kostenlose Veranstal
 tungen in Berlin genau heute&nbsp\;und&nbsp\;besondere Berlin Events morge
 n- Details zu laufenden Festivitäten findet Ihr über folgende Übersicht Feste in B
 erlin und per Klick hierauf eine Übersicht über aktuelle Feuerwerke in Berlin- I
 n unserer Kategorie Outdoor finden sich außerdem Dauer-Ausflugs-Ideen wie z
 .B. Grill- und Picknickplätze oder ein Fahrrad-Routen-Planer.Der Hechtsprung
  zum Herrentag und das Kulturparkfest Wittenau finden 2017 wohl nicht stat
 t\, wer weiß anderes weiß\, gern kurz Kommentar hinterlassen.\n&nbsp\;\n\nVi
 el Spass wünscht Gratis-in-Berlin\n\nLink zum Tip: \nZu den Gratis-in-Berlin An
 geboten: http://www.gratis-in-berlin.de\n
DTSTART;VALUE=DATE:20170525
DTEND;VALUE=DATE:20170526
SUMMARY:Himmelfahrt: Events\, Insider Tips + Veranstaltungen am Vatertag
END:VEVENT
END:VCALENDAR
