BEGIN:VCALENDAR
VERSION:2.0
PRODID:-//Gratis-in-Berlin//NONSGML kigkonsult.se iCalcreator 2.14//
METHOD:PUBLISH
X-WR-CALNAME:Gratis-in-Berlin Tip Kalender
X-WR-CALDESC:Erhalte Gratis-in-Berlin Tips in deinem Kalender
BEGIN:VEVENT
UID:20260422T131840UTC-3729XSTnL8@Gratis-in-Berlin
DTSTAMP:20260422T131840Z
DESCRIPTION:Auch die Steglitzer Festwoche 2017 ist wieder ein beliebtes Vol
 ksfest mit buntem Bühnenprogramm\, Rummel\, Biergarten\, ... Ein besonderes Hig
 hlight sind an den Samstagen die tradionellen Höhen-Feuerwerke ab 21 Uhr 45 über d
 em Festplatz.&nbsp\;Öffnungzeiten der Steglitzer FesttageMontag bis Donners
 tag:14 - 22 UhrFreitag + Samstag14 - 23 UhrSonn- + Feiertage:14 - 22 UhrEi
 ntritt an allen Tagen frei. Mittwochs ist Familientag mit halben Preisen a
 uf Karussels + Bahnen.Programm:Donnerstag\, 25.05. 2017 - Eröffnung16:00 Uhr:
  Magnus von Keil - Deutsche Pop- und Rockmusik18:00 Uhr: Eröffnung der Stegli
 tzer Woche&nbsp\;18:15 Uhr: Die Gabys - Discoklassiker der 70er und 80er F
 reitag\, 26.05. 2017&nbsp\;18:30 Uhr: Cashley Trio - Finest Rock 'n' Roll 
 Samstag\, 27.05. 201715:00 Uhr: Samuels Dance Hall - HipHop und Streetdanc
 e16:00 Uhr: Kingsley Q. - Aktueller HipHop19:00 Uhr: Andreas Marius-Weiter
 sagen - Marius Müller-Westernhagen Show21:45 Uhr: HöhenfeuerwerkSonntag\, 28.05. 2
 01716:00 Uhr: Dance Masters - HipHop und Streetdance 17:30 Uhr: Berlin Bea
 t Club - Hits der 60er und 70erMontag\, 29.05. 201718:00 Uhr: CROW - Popso
 ngs unpluggedDienstag\, 30.05. 201718:00 Uhr: Cashley Duo - Accoustic Rock
 Mittwoch\, 31.05. 2017 - Familientag16:00 Uhr: Der große Popolino - Kinderp
 rogramm 18:00 Uhr: Soul Syndicate - Soul und FunkDonnerstag\, 01.06. 20171
 8:00 Uhr: Das flotte Duo - Hits der 50er und 60errFreitag\, 02.06. 201719:
 00 Uhr: Phil Bates und Band - perform the hits  of the Electric Light Orch
 estraSamstag\, 03.06. 201715:00 Uhr: Nachbarschaftshaus Lilienthal - Jazz-
  und Streetdance16:00 Uhr: Die Zauberwerkstatt - Kinderprogramm 17:00 Uhr:
  Baila Berlin - Salsa19:00 Uhr: CoolCats - Rock 'n' Roll Show21:45 Uhr: Höhen
 feuerwerkSonntag\, 04.06. 201716:00 Uhr: Clärchen &amp\; Paletti - Kinderpro
 gramm16:40 Uhr: Sabine Brand - Hits von gestern und heute19:00 Uhr: Keith 
 Tynes - Soul\, Jazz\, BluesMontag\, 05.06. 201715:00 Uhr: Venterra - Deuts
 chrock18:30 Uhr: Münchener Freiheit - Die 80er Jahre KultbandDienstag\, 06.06. 
 201718:00 Uhr: Das flotte Duo - Hits der 50er und 60errMittwoch\, 07.06. 2
 017 - Familientag16:00 Uhr: Die Zauerwerkstatt - Kinderprogramm 18:00 Uhr:
  Frankie goes to Liverpool - Beatles ShowDonnerstag\, 08.06. 201719:00 Uhr
 : Crow - Popsongs unpluggedFreitag\, 09.06. 201718:00 Uhr: Speed Limit - R
 ockclassicsSamstag\, 10.06. 201716:00 Uhr: Der große Popolino - Kinderprogr
 amm17:00 Uhr: Dance Masters HipHop und Streetdance19:00 Uhr: Petticoat - R
 ock 'n' Roll der 50er und 60er21:45 Uhr: HöhenfeuerwerkSonntag\, 11.06. 20171
 6:00 Uhr: 8. Kleinkunstpreis - Talentshow 19:00 Uhr: Liquid Stone - Modern
  Rock\n\nViel Spass wünscht Gratis-in-Berlin\n\nLink zum Tip: \nZu den Gratis-i
 n-Berlin Angeboten: http://www.gratis-in-berlin.de\n
DTSTART;VALUE=DATE:20170525
DTEND;VALUE=DATE:20170612
SUMMARY:Steglitzer Festwoche: Steglitzer Festtage mit Programm 
END:VEVENT
END:VCALENDAR
