BEGIN:VCALENDAR
VERSION:2.0
PRODID:-//Gratis-in-Berlin//NONSGML kigkonsult.se iCalcreator 2.14//
METHOD:PUBLISH
X-WR-CALNAME:Gratis-in-Berlin Tip Kalender
X-WR-CALDESC:Erhalte Gratis-in-Berlin Tips in deinem Kalender
BEGIN:VEVENT
UID:20260424T100701UTC-8176V9ePhp@Gratis-in-Berlin
DTSTAMP:20260424T100701Z
DESCRIPTION:Der große Berliner Weihnachtsmarkt an der Allee ist der Nachfolg
 er des beliebten Wintertraum am Alexa\, welcher seit 2017 nicht mehr statt
 findet. Mittwoch Kindertag mit ermäßigten Fahrgeschäften.Bunte Lichter\, weihn
 achtlicher Duft und eine schier endlose Anzahl abenteuerlicher Bahnen und 
 Fahrgeschäfte: Der Weihnachts-Rummel an der Landsberger Allee lockt jedes Ja
 hr zahlreiche Gäste mit Glühwein und Rummelatmosphäre nach Lichtenberg.&nbsp\;Monta
 g bis Donnerstag 14 bis 21:30 Uhr\, Freitag und Samstag 14 bis 23 Uhr\, So
 nntag 12 bis 21 Uhr\, Totensonntag und Heiligabend geschlossen.\n\nViel Sp
 ass wünscht Gratis-in-Berlin\n\nLink zum Tip: \nZu den Gratis-in-Berlin Angebot
 en: http://www.gratis-in-berlin.de\n
DTSTART;VALUE=DATE:20251101
DTEND;VALUE=DATE:20251229
SUMMARY:Weihnachts-Rummel Winterzauber an der Landsberger Allee (täglich außer
  23.11. & 24.12.)
END:VEVENT
END:VCALENDAR
