BEGIN:VCALENDAR
VERSION:2.0
PRODID:-//Gratis-in-Berlin//NONSGML kigkonsult.se iCalcreator 2.14//
METHOD:PUBLISH
X-WR-CALNAME:Gratis-in-Berlin Tip Kalender
X-WR-CALDESC:Erhalte Gratis-in-Berlin Tips in deinem Kalender
BEGIN:VEVENT
UID:20260423T113908UTC-81024CMoUU@Gratis-in-Berlin
DTSTAMP:20260423T113908Z
DESCRIPTION:Beim&nbsp\;Soulfestival Open Air am Alexanderplatz waren u.a. s
 chon&nbsp\; dabei: Josiah Bruce\, Benny Fiedler\, Kirk Smith\, SJ Tomekk\,
  Berlin Blues Band\, Tiffany Kemp\, One Voice Gospel Chor\, Black Tie Ente
 rtainment und Jazz Combo Berlin &amp\; Street Food Stände.&nbsp\;Wieder verw
 andelt sich das ALEXA in eine Konzertbühne des Soulfestival Berlin. Wohl täglich 
 von 11 bis 22 Uhr.\n\nViel Spass wünscht Gratis-in-Berlin\n\nLink zum Tip: http
 s://www.gratis-in-berlin.de/naechste-monat/item/2060554-soulfestival-am-al
 exanderplatz\nZu den Gratis-in-Berlin Angeboten: http://www.gratis-in-berl
 in.de\n
DTSTART;VALUE=DATE:20260514
DTEND;VALUE=DATE:20260525
SUMMARY:Soulfestival am Alexanderplatz
END:VEVENT
END:VCALENDAR
