BEGIN:VCALENDAR
VERSION:2.0
PRODID:-//Gratis-in-Berlin//NONSGML kigkonsult.se iCalcreator 2.14//
METHOD:PUBLISH
X-WR-CALNAME:Gratis-in-Berlin Tip Kalender
X-WR-CALDESC:Erhalte Gratis-in-Berlin Tips in deinem Kalender
BEGIN:VEVENT
UID:20260420T180022UTC-89855pdZzJ@Gratis-in-Berlin
DTSTAMP:20260420T180022Z
DESCRIPTION:Am 21. und 22. Oktober 2023\, ab 12 Uhr\, laden wir euch herzli
 ch zu unserem Beachfood Festival ein! Taucht ein in ein kulinarisches Aben
 teuer mit über 30 Ständen\, Live-Musik\, Floßtouren und einem Kidsspace für die Kleinen
  unter uns. Weitere Informationen:&nbsp\;https://strandbad-wendenschloss.b
 erlin/beach-food-festival/\n\nViel Spass wünscht Gratis-in-Berlin\n\nLink zum T
 ip: \nZu den Gratis-in-Berlin Angeboten: http://www.gratis-in-berlin.de\n
DTSTART;VALUE=DATE:20231021
DTEND;VALUE=DATE:20231023
SUMMARY:Beachfood Festival Berlin
END:VEVENT
END:VCALENDAR
