BEGIN:VCALENDAR
VERSION:2.0
PRODID:-//Gratis-in-Berlin//NONSGML kigkonsult.se iCalcreator 2.14//
METHOD:PUBLISH
X-WR-CALNAME:Gratis-in-Berlin Tip Kalender
X-WR-CALDESC:Erhalte Gratis-in-Berlin Tips in deinem Kalender
BEGIN:VEVENT
UID:20260420T080618UTC-2800PD927s@Gratis-in-Berlin
DTSTAMP:20260420T080618Z
DESCRIPTION:Anlässlich der Europäischen Woche der Abfallvermeidung wird der Re-
 Use Superstore mit einer Reihe von Anbietern im Forum Steglitz zu Gast sei
 n. Während der regulären Öffnungszeiten bieten Labels wie FARBFUNCK\, Beverly B
 erlin oder Ministry of Upcycling ihre Produkte zum Kauf an. Darüber hinaus find
 en an den Tagen kostenlose Workshops statt\, in denen interessierte Kundin
 nen und Kunden lernen können\, wie man selbst Kleidung wiederverwertet oder g
 ar mit Upcycling in moderne Fashion-Accessoires verwandelt. Die Veranstalt
 ung beginnt am 16. 11. und dauert bis zum 25. 11.Mode wird immer schneller
 \, und die dadurch anfallenden Mengen an Müll wachsen stetig. Allein in Deutsch
 land werden laut Statistischem Bundesamt pro Kopf jährlich mehr als 5 Kilo A
 ltkleider weggeworfen. Und damit liegt die Bundesrepublik gerade mal im eu
 ropäischen Mittelfeld. Andere Länder entsorgen mehr als das Doppelte. Dieser T
 endenz der immer schneller wechselnden Modetrends steht der Gedanke des Re
 cyclings oder Upcyclings entgegen\, also die Wiederverwertung alter Kleidu
 ngsstücke oder deren Veränderung mithilfe einfacher Mittel.Das Forum Steglitz möchte
  ein Zeichen gegen die gewaltige Müllflut setzen und schließt sich der Europäische
 n Woche der Abfallvermeidung an\, mit einem Fokus auf Mode und Fashion. Da
 für ist der Re-Use Superstore vom 16. bis zum 25. 11. zu Gast im Haus und zeigt
  dort\, wie attraktiv Second-Hand- und Vintage-Mode sein kann.Mit dabei si
 nd bekannte Charity-Labels wie Zweimalschön\, rack´n´white oder zweimal gut und
  Designerinnen und Designer wie Cornelia Funck mit ihrem Label ?FARBFUNCK?
 \, Ulla Heinz\, die mit ihrem Label ?Beverly Berlin? vor allem Accessoires
  und Taschen in den Fokus rückt\, sowie Daniel Krohn\, der mit dem ?Ministry of
  Upcycling? Fashionprodukte entwickelt\, produziert und vertreibt\, die mi
 thilfe von kleinen und großen Veränderungen Second-Hand-Mode in Fashion-State
 ments verwandeln.Darüber hinaus finden täglich Workshops statt\, in denen an prak
 tischen Beispielen erklärt wird\, wie Upcycling funktioniert und wie man als
  Laiin oder Laie selbst seine Kleidung aufpeppen und zu einem echten Hingu
 cker machen kann.?Wir freuen uns sehr über diese spannende Projektwoche?\, sagt
  Pia Lehmkuhl\, Centermanagerin des Forums Steglitz. ?Es ist beunruhigend 
 mit anzusehen\, wie immer mehr Müll entsteht\, weil Trends immer schneller wech
 seln. Dazu Alternativen anzubieten\, finde ich ausgesprochen spannend. Das
  Forum Steglitz als Nahversorger für den Kiez ist der perfekte Ort für so eine Veran
 staltung.?Über Unibail-Rodamco-WestfieldUnibail-Rodamco-Westfield ist ein E
 igentümer\, Entwickler und Betreiber von nachhaltigen\, hochwertigen Immobilien
  in den dynamischsten Städten Europas und der USA. Die Gruppe betreibt 75 Sh
 oppingcenter in 12 Ländern\, darunter 39 mit dem weltberühmten Westfield-Brand im
  Namen. Diese Center werden jährlich über 900 Millionen Mal besucht und bieten Re
 tailern und Marken eine einzigartige Plattform\, um mit den Besucher:innen
  in Kontakt zu treten. In Deutschland betreibt die Gruppe aktuell 20 Shopp
 ingcenter\, davon acht im eigenen Portfolio. URW verfügt zudem über ein Portfolio au
 s hochwertigen Büros\, zehn Kongress- und Ausstellungszentren in Paris und eine
  Projektentwicklungspipeline von drei Milliarden Euro mit hauptsächlich gemi
 scht genutzten Assets. Derzeit besteht das Portfolio im Wert von 51 Millia
 rden Euro zu 87 % aus Handelsimmobilien\, zu 6 % aus Büroimmobilien\, zu 5 % au
 s Kongress- und Ausstellungszentren und zu 2 % aus Dienstleistungsflächen (S
 tand: 30. Juni 2023). URW ist ein engagierter Partner von Großstädten bei der
  Erneuerung und Modernisierung urbaner Räume ? sowohl durch die Entwicklung 
 von gemischt genutzten Immobilien als auch bei der Nachrüstung von Gebäuden gemäß b
 ranchenführender Nachhaltigkeitsstandards. Dieses Engagement wird durch die 'Be
 tter Places 2030'-Agenda der Gruppe verstärkt\, die darauf abzielt\, einen p
 ositiven ökologischen\, sozialen und wirtschaftlichen Einfluss auf die Städte u
 nd Gemeinschaften zu erwirken\, in denen URW tätig ist. URW ist an der Börse Eu
 ronext Paris (Ticker: URW) gelistet. Eine Zweitnotiz wurde in Australien d
 urch ?Chess Depositary Interests? eingerichtet. Die Gruppe genießt ein Rati
 ng in der Kategorie BBB+ bei Standard &amp\; Poor?s und in der Kategorie B
 aa2 bei Moody?s. Weitere Informationen finden Sie unter: www.urw.com sowie
  www.unibail-rodamco-westfield.de\n\nViel Spass wünscht Gratis-in-Berlin\n\nLin
 k zum Tip: \nZu den Gratis-in-Berlin Angeboten: http://www.gratis-in-berli
 n.de\n
DTSTART;VALUE=DATE:20231116
DTEND;VALUE=DATE:20231117
SUMMARY:Recycling und Upcycling im Forum Steglitz 2023
END:VEVENT
END:VCALENDAR
