BEGIN:VCALENDAR
VERSION:2.0
PRODID:-//Gratis-in-Berlin//NONSGML kigkonsult.se iCalcreator 2.14//
METHOD:PUBLISH
X-WR-CALNAME:Gratis-in-Berlin Tip Kalender
X-WR-CALDESC:Erhalte Gratis-in-Berlin Tips in deinem Kalender
BEGIN:VEVENT
UID:20260423T155059UTC-68581x0oWd@Gratis-in-Berlin
DTSTAMP:20260423T155059Z
DESCRIPTION:Per Klick auf unsere Events am Maifeiertag 1. Mai 2025 in Berli
 n&nbsp\; (Fettschrift = klickbarer Link) findest Du spannende kostenlose V
 eranstaltungen wie u.a. Freiluft-Kino\, Spaß Space Agency\, Schnupper-Tanzk
 urse in Tanzschule\, letzte Kunst-Chance\, Varianten vom Kreuzberger Myfes
 t wie Open Airs &amp\; Raves an der Spree\, Maifeste\, Baumblütenfeste\, Kinder
 feste\,&nbsp\;Familienfeste &amp\; mehr besondere Erlebnisse.Und per Klick
  auf folgende Links gibts immer&nbsp\;Tips für spannende kostenlose Berlin Vera
 nstaltungen heute&nbsp\;und&nbsp\;besondere Berlin Events morgen&nbsp\;(au
 ch oben in der Navigation über 'Heute gratis in Berlin' und 'Morgen'.&nbsp\;Und
  über folgenden Link/Klick immer Details für aktuelle und kommende&nbsp\;Feste in Be
 rlinPer Klick auf unsere&nbsp\;Tips für die Berliner Walpurgisnacht&nbsp\;davor
  gab es u.a. ein kultiges Alphorn-Jodlerinnen-Treffen auf dem Hahneberg\, 
 Tanz in den Mai Events\, Feste\, Konzerte\, Performances\, Filme\,&nbsp\; 
 ...\n\nViel Spass wünscht Gratis-in-Berlin\n\nLink zum Tip: \nZu den Gratis-in-
 Berlin Angeboten: http://www.gratis-in-berlin.de\n
DTSTART;VALUE=DATE:20250501
DTEND;VALUE=DATE:20250502
SUMMARY:1. Mai 2025 in Berlin: Maifeste\, Myfest + Insider Tips für mehr Events 
 am Maifeiertag
END:VEVENT
END:VCALENDAR
