BEGIN:VCALENDAR
VERSION:2.0
PRODID:-//Gratis-in-Berlin//NONSGML kigkonsult.se iCalcreator 2.14//
METHOD:PUBLISH
X-WR-CALNAME:Gratis-in-Berlin Tip Kalender
X-WR-CALDESC:Erhalte Gratis-in-Berlin Tips in deinem Kalender
BEGIN:VEVENT
UID:20260421T122307UTC-0121mKnVL9@Gratis-in-Berlin
DTSTAMP:20260421T122307Z
DESCRIPTION:Der Kinderkarneval ist auch 2026 ein Festumzug für Kinder und Jugend
 liche mit Straßenfest.&nbsp\;Der Umzug findet traditionell am Pfingstsamsta
 g (2026 ist das der 23. Mai) unter einem jährlich wechselnden Motto statt.St
 art des Kostümzugs ist traditionell gegen 13 Uhr am Mariannenplatz und Ziel der
  Görlitzer Park\, wo dann ein großes internationales Kinderfest gefeiert wird.
  Im Görlitzer Park findet normalerweise anschließend das multikulturelle Kinde
 rFEST statt (ca. 14 ? 18 Uhr). Dort präsentieren Kinder auf mehreren Bühnen (Musi
 kbühne\, Tanzbühne) ein künstlerisches Programm. Zum Mitmachen laden größtenteils kostenlose
  Spielangebote wie Hüpfburgen\, Kinder-Karussells\, Riesentrampolin\, Wasserpar
 cours\, Kletterturm\, Bubble Balls\, Kinder-Theater u.v.m.&nbsp\;ab 11:30 
 Uhr Treffpunkt für Kindergruppen: Grünfläche vor dem Bethanien12:00 Uhr: Kundgebung 
 am Mariannenplatz12:30 Uhr: Beginn der Kinder-Demo (Kostümumzug)14:00 Uhr: Ende
  des Umzugs in der Wiener Straße\, Start des Kinderfestes im Görlitzer ParkEin
 e Jury am Rio-Reiser-Platz kürt die schönsten Kostüme\, die eindrucksvollsten Umzugswägen
  und die beste Performance.Am Sonntag nach dem Kinderkarneval dann immer d
 er große&nbsp\;Karnevalsumzug zum Karnevel der Kulturen&nbsp\;(Fettschrift 
 = Link)\n\nViel Spass wünscht Gratis-in-Berlin\n\nLink zum Tip: \nZu den Gratis
 -in-Berlin Angeboten: http://www.gratis-in-berlin.de\n
DTSTART;VALUE=DATE:20260523
DTEND;VALUE=DATE:20260524
SUMMARY:Kinderkarneval der Kulturen 2026 mit Umzug und Kinderfest
END:VEVENT
END:VCALENDAR
