BEGIN:VCALENDAR
VERSION:2.0
PRODID:-//Gratis-in-Berlin//NONSGML kigkonsult.se iCalcreator 2.14//
METHOD:PUBLISH
X-WR-CALNAME:Gratis-in-Berlin Tip Kalender
X-WR-CALDESC:Erhalte Gratis-in-Berlin Tips in deinem Kalender
BEGIN:VEVENT
UID:20260419T145231UTC-8403cP96t5@Gratis-in-Berlin
DTSTAMP:20260419T145231Z
DESCRIPTION:Bei der&nbsp\;Fete de la Musique 2026 in Berlin wieder Freiluft
 -Konzerte auf rund 200 Spontan-Bühnen quer durch die Stadt &amp\; Bezirke. Von 
 16 bis 22 Uhr meist draußen\, danach an einigen Locations drinnen. Klassik\
 , Rock\, Pop\, Reggae\, Elektro\, ...&nbsp\;Komplettes Programm\,&nbsp\;Op
 en Air &amp\;&nbsp\; Indoor Standorte. ganz unten verlinkt.Bei unseren Tag
 estips rund um die Mittsommernacht 2026 werden noch rechtzeitig aktualisie
 rt außergewöhnliche Konzerte und Orte folgen. :-)Ansonsten auch kurz vorher hi
 er schauen:fetedelamusique.de\n\nViel Spass wünscht Gratis-in-Berlin\n\nLink zu
 m Tip: \nZu den Gratis-in-Berlin Angeboten: http://www.gratis-in-berlin.de
 \n
DTSTART;VALUE=DATE:20260621
DTEND;VALUE=DATE:20260622
SUMMARY:Fête da la Musique 2026 Berlin: Buntes Programm
END:VEVENT
END:VCALENDAR
